BEGIN:VCALENDAR
VERSION:2.0
PRODID:-//Newcastle Cathedral - ECPv6.15.20//NONSGML v1.0//EN
CALSCALE:GREGORIAN
METHOD:PUBLISH
X-WR-CALNAME:Newcastle Cathedral
X-ORIGINAL-URL:https://newcastlecathedral.org.uk
X-WR-CALDESC:Events for Newcastle Cathedral
REFRESH-INTERVAL;VALUE=DURATION:PT1H
X-Robots-Tag:noindex
X-PUBLISHED-TTL:PT1H
BEGIN:VTIMEZONE
TZID:Europe/London
BEGIN:DAYLIGHT
TZOFFSETFROM:+0000
TZOFFSETTO:+0100
TZNAME:BST
DTSTART:20240331T010000
END:DAYLIGHT
BEGIN:STANDARD
TZOFFSETFROM:+0100
TZOFFSETTO:+0000
TZNAME:GMT
DTSTART:20241027T010000
END:STANDARD
BEGIN:DAYLIGHT
TZOFFSETFROM:+0000
TZOFFSETTO:+0100
TZNAME:BST
DTSTART:20250330T010000
END:DAYLIGHT
BEGIN:STANDARD
TZOFFSETFROM:+0100
TZOFFSETTO:+0000
TZNAME:GMT
DTSTART:20251026T010000
END:STANDARD
BEGIN:DAYLIGHT
TZOFFSETFROM:+0000
TZOFFSETTO:+0100
TZNAME:BST
DTSTART:20260329T010000
END:DAYLIGHT
BEGIN:STANDARD
TZOFFSETFROM:+0100
TZOFFSETTO:+0000
TZNAME:GMT
DTSTART:20261025T010000
END:STANDARD
END:VTIMEZONE
BEGIN:VEVENT
DTSTART;TZID=Europe/London:20250408T130500
DTEND;TZID=Europe/London:20250408T143000
DTSTAMP:20260424T092348
CREATED:20250324T115914Z
LAST-MODIFIED:20250404T125321Z
UID:10004530-1744117500-1744122600@newcastlecathedral.org.uk
SUMMARY:The Lantern Singing Group – FREE Weekly Music Sessions
DESCRIPTION:🎵 Join Our FREE Community Singing Sessions! \nDiscover the joy of singing together in a fun and welcoming space. These sessions invite people of all backgrounds and experiences to enjoy popular songs and celebrate the power of music. \nExperience the uplifting physical\, mental and emotional benefits of singing – no previous experience needed\, just a love for making music! \nEveryone’s welcome\, regardless of faith\, background or ability. \nBrought to you by the Cathedral Lantern Project and Citizen Songwriters. \nPlease note: While booking is not compulsory\, we encourage attendees to register so that our session leaders know how many people to expect.
URL:https://newcastlecathedral.org.uk/event/the-lantern-singing-group-weekly-music-making-sessions/2025-04-08/
LOCATION:Newcastle Cathedral\, St Nicholas Square\, Newcastle upon Tyne\, NE1 1PF\, United Kingdom\, Newcastle\, Tyne & Wear\, NE1 1PF\, United Kingdom
CATEGORIES:Other
ATTACH;FMTTYPE=image/jpeg:https://newcastlecathedral.org.uk/wp-content/uploads/2025/03/Lantern-Singing-Group.jpg
ORGANIZER;CN="Newcastle Cathedral via TicketSource":MAILTO:office@newcastlecathedral.org.uk
END:VEVENT
END:VCALENDAR