BEGIN:VCALENDAR
VERSION:2.0
PRODID:-//Newcastle Cathedral - ECPv6.15.20//NONSGML v1.0//EN
CALSCALE:GREGORIAN
METHOD:PUBLISH
X-WR-CALNAME:Newcastle Cathedral
X-ORIGINAL-URL:https://newcastlecathedral.org.uk
X-WR-CALDESC:Events for Newcastle Cathedral
REFRESH-INTERVAL;VALUE=DURATION:PT1H
X-Robots-Tag:noindex
X-PUBLISHED-TTL:PT1H
BEGIN:VTIMEZONE
TZID:Europe/London
BEGIN:DAYLIGHT
TZOFFSETFROM:+0000
TZOFFSETTO:+0100
TZNAME:BST
DTSTART:20240331T010000
END:DAYLIGHT
BEGIN:STANDARD
TZOFFSETFROM:+0100
TZOFFSETTO:+0000
TZNAME:GMT
DTSTART:20241027T010000
END:STANDARD
BEGIN:DAYLIGHT
TZOFFSETFROM:+0000
TZOFFSETTO:+0100
TZNAME:BST
DTSTART:20250330T010000
END:DAYLIGHT
BEGIN:STANDARD
TZOFFSETFROM:+0100
TZOFFSETTO:+0000
TZNAME:GMT
DTSTART:20251026T010000
END:STANDARD
BEGIN:DAYLIGHT
TZOFFSETFROM:+0000
TZOFFSETTO:+0100
TZNAME:BST
DTSTART:20260329T010000
END:DAYLIGHT
BEGIN:STANDARD
TZOFFSETFROM:+0100
TZOFFSETTO:+0000
TZNAME:GMT
DTSTART:20261025T010000
END:STANDARD
END:VTIMEZONE
BEGIN:VEVENT
DTSTART;TZID=Europe/London:20250414T130500
DTEND;TZID=Europe/London:20250414T135500
DTSTAMP:20260424T132421
CREATED:20250408T131056Z
LAST-MODIFIED:20250408T131056Z
UID:10004561-1744635900-1744638900@newcastlecathedral.org.uk
SUMMARY:Organ Music for Holy Week: Anthony Gray (St Wilfrid\, Harrogate)
DESCRIPTION:Join Anthony Gray\, Director of Music at St Wilfrid’s Church\, Harrogate\, for a FREE organ recital during Holy Week\, reflecting on Jesus’ arrest\, trial and suffering before his crucifixion. \nThe recital will feature Philip Moore’s ‘Via Crucis’ (‘The Stations of the Cross’)\, a moving and contemplative series of compositions: \ni) The Agony of Gethsemane\nii) The Kiss of Judas\niii) Art thou the Christ?\niv) The Denial\nv) Pilate washes his hands\nvi) The Scourging\nvii) Bearing the Cross\nviii) St Simon of Cyrene \nNewcastle Cathedral’s Monday organ recitals are FREE to attend\, with donations warmly welcomed. \nClick here to make a regular or one-off donation. \nLearn about our ‘Not Just a Pipe Dream’ organ fundraising appeal.
URL:https://newcastlecathedral.org.uk/event/organ-music-for-holy-week-anthony-gray-st-wilfrid-harrogate/
LOCATION:Newcastle Cathedral\, St Nicholas Square\, Newcastle upon Tyne\, NE1 1PF\, United Kingdom\, Newcastle\, Tyne & Wear\, NE1 1PF\, United Kingdom
CATEGORIES:Music (Cathedral)
ATTACH;FMTTYPE=image/jpeg:https://newcastlecathedral.org.uk/wp-content/uploads/2025/04/Detail-from-stained-glass-window-of-Jesus-on-the-Road-to-Calvary-from-the-Chapel-of-the-Resurrection.jpg
ORGANIZER;CN="Newcastle Cathedral":MAILTO:office@newcastlecathedral.org.uk
END:VEVENT
BEGIN:VEVENT
DTSTART;TZID=Europe/London:20250414T200000
DTEND;TZID=Europe/London:20250414T204500
DTSTAMP:20260424T132421
CREATED:20250106T162809Z
LAST-MODIFIED:20250414T162219Z
UID:10003730-1744660800-1744663500@newcastlecathedral.org.uk
SUMMARY:Sung Compline with Address for Holy Week
DESCRIPTION:Join us for the ancient office of Compline during Holy Week on Monday 14\, Tuesday 15 and Wednesday 16 April – a service of quietness and reflection before rest at the end of the day. Music from the Cathedral Choir will help create a calm atmosphere. \nYou can join us for each evening’s Compline via our YouTube channel (see below). \nMonday 14 April \nhttps://www.youtube.com/live/hqu6wjfY93c \nTuesday 15 April \nhttps://www.youtube.com/live/ittxfp_E3N4 \nWednesday 16 April \nhttps://www.youtube.com/live/yZeO3iajxrc \nClick here to read and follow along with the Order of Service (PDF). \nAll services are free to attend\, with no pre-booking required.
URL:https://newcastlecathedral.org.uk/event/compline-with-address-for-holy-week-2/2025-04-14/
LOCATION:Newcastle Cathedral\, St Nicholas Square\, Newcastle upon Tyne\, NE1 1PF\, United Kingdom\, Newcastle\, Tyne & Wear\, NE1 1PF\, United Kingdom
CATEGORIES:Services,Music (Cathedral)
ATTACH;FMTTYPE=image/jpeg:https://newcastlecathedral.org.uk/wp-content/uploads/2022/10/Candles-and-the-Danish-Memorial-Window-scaled-e1729858801658.jpeg
END:VEVENT
END:VCALENDAR