BEGIN:VCALENDAR
VERSION:2.0
PRODID:-//Newcastle Cathedral - ECPv6.15.20//NONSGML v1.0//EN
CALSCALE:GREGORIAN
METHOD:PUBLISH
X-ORIGINAL-URL:https://newcastlecathedral.org.uk
X-WR-CALDESC:Events for Newcastle Cathedral
REFRESH-INTERVAL;VALUE=DURATION:PT1H
X-Robots-Tag:noindex
X-PUBLISHED-TTL:PT1H
BEGIN:VTIMEZONE
TZID:Europe/London
BEGIN:DAYLIGHT
TZOFFSETFROM:+0000
TZOFFSETTO:+0100
TZNAME:BST
DTSTART:20240331T010000
END:DAYLIGHT
BEGIN:STANDARD
TZOFFSETFROM:+0100
TZOFFSETTO:+0000
TZNAME:GMT
DTSTART:20241027T010000
END:STANDARD
BEGIN:DAYLIGHT
TZOFFSETFROM:+0000
TZOFFSETTO:+0100
TZNAME:BST
DTSTART:20250330T010000
END:DAYLIGHT
BEGIN:STANDARD
TZOFFSETFROM:+0100
TZOFFSETTO:+0000
TZNAME:GMT
DTSTART:20251026T010000
END:STANDARD
BEGIN:DAYLIGHT
TZOFFSETFROM:+0000
TZOFFSETTO:+0100
TZNAME:BST
DTSTART:20260329T010000
END:DAYLIGHT
BEGIN:STANDARD
TZOFFSETFROM:+0100
TZOFFSETTO:+0000
TZNAME:GMT
DTSTART:20261025T010000
END:STANDARD
END:VTIMEZONE
BEGIN:VEVENT
DTSTART;VALUE=DATE:20250602
DTEND;VALUE=DATE:20250729
DTSTAMP:20260424T121957
CREATED:20240510T131402Z
LAST-MODIFIED:20250602T143919Z
UID:10003831-1748822400-1753747199@newcastlecathedral.org.uk
SUMMARY:We Depend on Our Words - Pride Exhibition
DESCRIPTION:“What is it that we human beings ultimately depend on? We depend on our words. We are suspended in language. Our task is to communicate experience and ideas to others.”– Niels Bohr\, Nobel Prize Winner \nPride Month\, celebrated each June\, is a vibrant and inclusive time to honour the LGBTQI+ community – their history\, achievements\, and continued journey toward equality. \nAt Newcastle Cathedral\, we celebrate the significance of the Pride movement and its lasting impact on our shared cultural and social fabric. Our returning exhibition\, running throughout the summer and beyond Newcastle Pride weekend (Saturday 19 and Sunday 20 July\, presented by Northern Pride)\, explores the deep connection between language and identity. \nAs part of the Pride Fringe programme\, we’re thrilled to welcome Northern Proud Voices – the North East’s largest and longest-running LGBTQI+ community choir – for an uplifting evening of pop and rock favourites. \nJoin us on Friday 4 July at 7pm for a joyful celebration of music and community. Click below to find out more. \nNorthern Proud Voices Cathedral Concert 2025
URL:https://newcastlecathedral.org.uk/event/we-depend-on-our-words-pride-month-exhibition/
LOCATION:Newcastle Cathedral\, St Nicholas Square\, Newcastle upon Tyne\, NE1 1PF\, United Kingdom\, Newcastle\, Tyne & Wear\, NE1 1PF\, United Kingdom
CATEGORIES:Art & Exhibitions
ATTACH;FMTTYPE=image/jpeg:https://newcastlecathedral.org.uk/wp-content/uploads/2023/05/We-Depend-on-Our-Word-Exhibition-banner-Photo-by-Nicholas-Farka-Red-and-Round-Photography.jpg
END:VEVENT
BEGIN:VEVENT
DTSTART;TZID=Europe/London:20250701T190000
DTEND;TZID=Europe/London:20250701T203000
DTSTAMP:20260424T121957
CREATED:20250516T110654Z
LAST-MODIFIED:20250701T102236Z
UID:10004706-1751396400-1751401800@newcastlecathedral.org.uk
SUMMARY:Petertide Ordinations 2025 - Priest's Ordination
DESCRIPTION:The Petertide Ordinations for the Diocese of Newcastle take place around St Peter’s Day. These services mark the initiation of new deacons into the journey of priesthood and the ordination of priests. \nThis year’s priests will be ordained on Saturday 28 June and Tuesday 1 July\, and we will welcome this year’s deacons on Sunday 29 June. \nOur soon-to-be deacons will serve their titles in parishes across our Diocese. The new priests who began ordained ministry as deacons last year will continue to serve their existing parishes as curates. \nPlease join us in extending a warm welcome to the ordinands\, their loved ones\, and members of the parishes and communities in which they will serve. \nThis service will also be live-streamed via the Cathedral’s YouTube channel (see below). \nhttps://www.youtube.com/watch?v=Usu6WquzGfs \nClick here to read and follow along with the Order of Service (PDF). \nMeet this year’s ordinands on the Diocese of Newcastle’s website.
URL:https://newcastlecathedral.org.uk/event/petertide-ordinations-2025-priests-ordination/
LOCATION:Newcastle Cathedral\, St Nicholas Square\, Newcastle upon Tyne\, NE1 1PF\, United Kingdom\, Newcastle\, Tyne & Wear\, NE1 1PF\, United Kingdom
CATEGORIES:Services
ATTACH;FMTTYPE=image/jpeg:https://newcastlecathedral.org.uk/wp-content/uploads/2023/06/Petertide-Ordinations-2022-e1712147916536.jpg
END:VEVENT
END:VCALENDAR