BEGIN:VCALENDAR
VERSION:2.0
PRODID:-//Newcastle Cathedral - ECPv6.15.20//NONSGML v1.0//EN
CALSCALE:GREGORIAN
METHOD:PUBLISH
X-WR-CALNAME:Newcastle Cathedral
X-ORIGINAL-URL:https://newcastlecathedral.org.uk
X-WR-CALDESC:Events for Newcastle Cathedral
REFRESH-INTERVAL;VALUE=DURATION:PT1H
X-Robots-Tag:noindex
X-PUBLISHED-TTL:PT1H
BEGIN:VTIMEZONE
TZID:Europe/London
BEGIN:DAYLIGHT
TZOFFSETFROM:+0000
TZOFFSETTO:+0100
TZNAME:BST
DTSTART:20250330T010000
END:DAYLIGHT
BEGIN:STANDARD
TZOFFSETFROM:+0100
TZOFFSETTO:+0000
TZNAME:GMT
DTSTART:20251026T010000
END:STANDARD
BEGIN:DAYLIGHT
TZOFFSETFROM:+0000
TZOFFSETTO:+0100
TZNAME:BST
DTSTART:20260329T010000
END:DAYLIGHT
BEGIN:STANDARD
TZOFFSETFROM:+0100
TZOFFSETTO:+0000
TZNAME:GMT
DTSTART:20261025T010000
END:STANDARD
BEGIN:DAYLIGHT
TZOFFSETFROM:+0000
TZOFFSETTO:+0100
TZNAME:BST
DTSTART:20270328T010000
END:DAYLIGHT
BEGIN:STANDARD
TZOFFSETFROM:+0100
TZOFFSETTO:+0000
TZNAME:GMT
DTSTART:20271031T010000
END:STANDARD
END:VTIMEZONE
BEGIN:VEVENT
DTSTART;VALUE=DATE:20260305
DTEND;VALUE=DATE:20260428
DTSTAMP:20260424T105554
CREATED:20260203T162632Z
LAST-MODIFIED:20260305T162749Z
UID:10005279-1772668800-1777334399@newcastlecathedral.org.uk
SUMMARY:Women Behind Bars: Life in Newcastle Prison\, 1828–1925 (Exhibition)
DESCRIPTION:What was it like to be a woman behind bars in 19th and early-20th-century Newcastle? \nJoin us for a powerful exhibition\, coinciding with International Women’s Day (8 March)\, which uncovers the hidden histories of women in Newcastle Prison. \nDrawing on Newcastle Prison: A History 1828–1925 (Tyne Bridge Publishing\, 2025)\, the exhibition brings to light the stories of young girls\, women affected by poverty and addiction\, and suffragettes who challenged the boundaries of their time. Together\, these voices reveal the realities of crime\, punishment and resilience in a society shaped by inequality. \nThe exhibition incorporates the ‘Story Chair’\, developed for Newcastle Cathedral in 2023 through a unique collaboration involving women with lived experience of the criminal justice system. The Story Chair has since toured several other venues\, carrying profound meaning for the women who contributed to its creation and ensuring authentic representation.\n \nThe exhibition is open free of charge during the Cathedral’s standard opening hours – no booking required. \nNewcastle Prison: A History 1828–1925 is available to purchase from the Cathedral retail space and the Newcastle Gaol website. \nThe Story Chair was a collaborative project involving Changing Lives\, Northumbria University\, and the National Trust\, with additional support from the North East Probation Service and the British Academy. \nWatch the video below to learn about the development of the Story Chair\, created by North East furniture maker Nick James\, who worked closely with the women involved in the project.
URL:https://newcastlecathedral.org.uk/event/women-behind-bars-life-in-newcastle-prison-1828-1925-exhibition/
LOCATION:Newcastle Cathedral\, St Nicholas Square\, Newcastle upon Tyne\, NE1 1PF\, United Kingdom\, Newcastle\, Tyne & Wear\, NE1 1PF\, United Kingdom
CATEGORIES:Art & Exhibitions
ATTACH;FMTTYPE=image/jpeg:https://newcastlecathedral.org.uk/wp-content/uploads/2026/02/Women-Behind-Bars-Launch-event.jpg
END:VEVENT
BEGIN:VEVENT
DTSTART;TZID=Europe/London:20260424T193000
DTEND;TZID=Europe/London:20260424T220000
DTSTAMP:20260424T105554
CREATED:20241009T155931Z
LAST-MODIFIED:20251031T120154Z
UID:10004283-1777059000-1777068000@newcastlecathedral.org.uk
SUMMARY:Country by Candlelight (Concerts by Candlelight)
DESCRIPTION:Calling all country music fans…  It’s time to ‘pour yourself a cup of ambition’ and get ready to dance the night away! \nFeaturing a spectacular cast of world-class vocalists and an incredible live band\, forget your 9 to 5 as you experience the biggest and best of country music like never before! Get ready to hear all your favourite hits from Dolly Parton\, Luke Combs\, Kenny Rogers\, Rascal Flatts\, Shania Twain\, John Denver\, Darius Rucker\, Chris Stapleton and many more! \nWe’ve got tonight… who needs tomorrow? So\, grab your Country Girl and a glass of Tennessee Whiskey because it’s time to book your tickets to the ultimate Country music experience! \nPlease note: \n\nAn external organisation hosts this concert\, and booking fees may apply.\nAll seating is general admission within your selected block\, and seats will be available on a first-come\, first-served basis on the night. We recommend arriving early to secure the best available seats.\nTicket queries should be directed via the Concerts by Candlelight website.\nAccess tickets (including a free carer ticket) are available for this event.\nDrinks will be available from a fully-stocked bar in the Cathedral Refectory before the show and during the interval.\n\nThe income generated from events such as ‘Country by Candlelight’ helps fund the maintenance of this beautiful building\, continue our charitable work\, and keep our doors open for all.
URL:https://newcastlecathedral.org.uk/event/country-by-candlelight/
LOCATION:Newcastle Cathedral\, St Nicholas Square\, Newcastle upon Tyne\, NE1 1PF\, United Kingdom\, Newcastle\, Tyne & Wear\, NE1 1PF\, United Kingdom
CATEGORIES:Guest Concerts
ATTACH;FMTTYPE=image/jpeg:https://newcastlecathedral.org.uk/wp-content/uploads/2024/10/Country-by-Candlelight-banner-1.jpg
ORGANIZER;CN="Kinda Dusty Ltd.":MAILTO:boxoffice@kindadusty.co.uk
END:VEVENT
END:VCALENDAR