BEGIN:VCALENDAR
VERSION:2.0
PRODID:-//Newcastle Cathedral - ECPv6.15.20//NONSGML v1.0//EN
CALSCALE:GREGORIAN
METHOD:PUBLISH
X-ORIGINAL-URL:https://newcastlecathedral.org.uk
X-WR-CALDESC:Events for Newcastle Cathedral
REFRESH-INTERVAL;VALUE=DURATION:PT1H
X-Robots-Tag:noindex
X-PUBLISHED-TTL:PT1H
BEGIN:VTIMEZONE
TZID:Europe/London
BEGIN:DAYLIGHT
TZOFFSETFROM:+0000
TZOFFSETTO:+0100
TZNAME:BST
DTSTART:20250330T010000
END:DAYLIGHT
BEGIN:STANDARD
TZOFFSETFROM:+0100
TZOFFSETTO:+0000
TZNAME:GMT
DTSTART:20251026T010000
END:STANDARD
BEGIN:DAYLIGHT
TZOFFSETFROM:+0000
TZOFFSETTO:+0100
TZNAME:BST
DTSTART:20260329T010000
END:DAYLIGHT
BEGIN:STANDARD
TZOFFSETFROM:+0100
TZOFFSETTO:+0000
TZNAME:GMT
DTSTART:20261025T010000
END:STANDARD
BEGIN:DAYLIGHT
TZOFFSETFROM:+0000
TZOFFSETTO:+0100
TZNAME:BST
DTSTART:20270328T010000
END:DAYLIGHT
BEGIN:STANDARD
TZOFFSETFROM:+0100
TZOFFSETTO:+0000
TZNAME:GMT
DTSTART:20271031T010000
END:STANDARD
END:VTIMEZONE
BEGIN:VEVENT
DTSTART;TZID=Europe/London:20260807T193000
DTEND;TZID=Europe/London:20260807T220000
DTSTAMP:20260425T044829
CREATED:20260116T124353Z
LAST-MODIFIED:20260116T124353Z
UID:10005252-1786131000-1786140000@newcastlecathedral.org.uk
SUMMARY:The Music of Oasis by Candlelight (Concerts by Candlelight)
DESCRIPTION:Calling all Rock ‘N’ Roll Stars\, this one’s for you! Featuring an epic cast of world-class vocalists and an incredible live band\, experience your favourite hits like never before\, all performed live by candlelight. \nExpect to hear the best of Oasis\, from ‘Champagne Supernova’\, ‘Live Forever’ and ‘She’s Electric’ to ‘Slide Away’\, ‘Wonderwall’\, ‘Morning Glory’ and many more. \nSo\, if you don’t believe that anybody feels the way you do about Oasis\, ‘Don’t Look Back in Anger’… Book your tickets now\, and join us for a ‘Supersonic’ night of live music! \nPlease note: \n\nAn external organisation hosts this concert\, and booking fees may apply.\nAll seating is general admission within your selected block\, and seats will be available on a first-come\, first-served basis on the night. We recommend arriving early to secure the best available seats.\nTicket queries should be directed via the Concerts by Candlelight website.\nAccess tickets\, including a free carer ticket\, are available for this event.\nDrinks will be available from a fully-stocked bar in the Cathedral Refectory before the show and during an interval.\n\nThe income generated from welcoming events such as ‘The Music Of Oasis by Candlelight’ helps us maintain this beautiful building\, continue our charitable work and keep our doors open to all.
URL:https://newcastlecathedral.org.uk/event/the-music-of-oasis-by-candlelight-concerts-by-candlelight/
LOCATION:Newcastle Cathedral\, St Nicholas Square\, Newcastle upon Tyne\, NE1 1PF\, United Kingdom\, Newcastle\, Tyne & Wear\, NE1 1PF\, United Kingdom
CATEGORIES:Guest Concerts
ATTACH;FMTTYPE=image/jpeg:https://newcastlecathedral.org.uk/wp-content/uploads/2026/01/The-Music-of-Oasis-by-Candlelight-banner.jpg
ORGANIZER;CN="Kinda Dusty Ltd.":MAILTO:boxoffice@kindadusty.co.uk
END:VEVENT
BEGIN:VEVENT
DTSTART;TZID=Europe/London:20260808T193000
DTEND;TZID=Europe/London:20260808T220000
DTSTAMP:20260425T044829
CREATED:20260116T124741Z
LAST-MODIFIED:20260116T124741Z
UID:10005253-1786217400-1786226400@newcastlecathedral.org.uk
SUMMARY:80s Anthems by Candlelight (Concerts by Candlelight)
DESCRIPTION:Calling 80s music fans ‘Everywhere’ – this is your show… 80s Anthems by Candlelight is here\, serving up the biggest and best rock anthems\, power ballads and pop classics of the decade\, live! \nFeaturing an incredible cast of world-class singers and an epic live band\, get ready to ‘turn back time’ and experience ‘The Best’ of the 80s at this euphoric celebration of live music. \nExpect to hear the biggest hits by your favourite artists\, including Bon Jovi\, Prince\, George Michael\, Journey\, Fleetwood Mac\, Erasure\, Queen\, Madonna\, a-ha and many more\, all performed live by candlelight. \nIt’s time to show the 80s ‘A Little Respect’\, so get ready to ‘Dance With Somebody’ and sing the night away at the ultimate throwback concert! \nPlease note: \n\nAn external organisation hosts this concert\, and booking fees may apply.\nAll seating is general admission within your selected block\, and seats will be available on a first-come\, first-served basis on the night. We recommend arriving early to secure the best available seats.\nTicket queries should be directed via the Concerts by Candlelight website.\nAccess tickets\, including a free carer ticket\, are available for this event.\nDrinks will be available from a fully-stocked bar in the Cathedral Refectory before the show and during an interval.\n\nThe income generated from welcoming events such as ‘80s Anthems by Candlelight’ helps us maintain this beautiful building\, continue our charitable work and keep our doors open to all.
URL:https://newcastlecathedral.org.uk/event/80s-anthems-by-candlelight-concerts-by-candlelight/
LOCATION:Newcastle Cathedral\, St Nicholas Square\, Newcastle upon Tyne\, NE1 1PF\, United Kingdom\, Newcastle\, Tyne & Wear\, NE1 1PF\, United Kingdom
CATEGORIES:Guest Concerts
ATTACH;FMTTYPE=image/jpeg:https://newcastlecathedral.org.uk/wp-content/uploads/2025/04/80s-Anthems-by-Candlelight-Banner.jpg
ORGANIZER;CN="Kinda Dusty Ltd.":MAILTO:boxoffice@kindadusty.co.uk
END:VEVENT
END:VCALENDAR