BEGIN:VCALENDAR
VERSION:2.0
PRODID:-//Newcastle Cathedral - ECPv6.15.20//NONSGML v1.0//EN
CALSCALE:GREGORIAN
METHOD:PUBLISH
X-WR-CALNAME:Newcastle Cathedral
X-ORIGINAL-URL:https://newcastlecathedral.org.uk
X-WR-CALDESC:Events for Newcastle Cathedral
REFRESH-INTERVAL;VALUE=DURATION:PT1H
X-Robots-Tag:noindex
X-PUBLISHED-TTL:PT1H
BEGIN:VTIMEZONE
TZID:Europe/London
BEGIN:DAYLIGHT
TZOFFSETFROM:+0000
TZOFFSETTO:+0100
TZNAME:BST
DTSTART:20250330T010000
END:DAYLIGHT
BEGIN:STANDARD
TZOFFSETFROM:+0100
TZOFFSETTO:+0000
TZNAME:GMT
DTSTART:20251026T010000
END:STANDARD
BEGIN:DAYLIGHT
TZOFFSETFROM:+0000
TZOFFSETTO:+0100
TZNAME:BST
DTSTART:20260329T010000
END:DAYLIGHT
BEGIN:STANDARD
TZOFFSETFROM:+0100
TZOFFSETTO:+0000
TZNAME:GMT
DTSTART:20261025T010000
END:STANDARD
BEGIN:DAYLIGHT
TZOFFSETFROM:+0000
TZOFFSETTO:+0100
TZNAME:BST
DTSTART:20270328T010000
END:DAYLIGHT
BEGIN:STANDARD
TZOFFSETFROM:+0100
TZOFFSETTO:+0000
TZNAME:GMT
DTSTART:20271031T010000
END:STANDARD
END:VTIMEZONE
BEGIN:VEVENT
DTSTART;TZID=Europe/London:20260903T193000
DTEND;TZID=Europe/London:20260903T220000
DTSTAMP:20260425T020003
CREATED:20250513T100443Z
LAST-MODIFIED:20260319T150310Z
UID:10004705-1788463800-1788472800@newcastlecathedral.org.uk
SUMMARY:The Music of Frankie Valli & The Four Seasons by Candlelight (Concerts by Candlelight)
DESCRIPTION:Join us for an incredible night of smash hits made famous by Frankie Valli and The Four Seasons\, performed by one of the UK’s leading tribute shows and an epic live band! \nThis spectacular concert combines the iconic harmonies and unrivalled showmanship of one of the Rock and Roll Hall of Fame’s most prestigious groups\, ensuring their legacy lives on. \nPerforming a collection of classics such as ‘Sherry’\, ‘Walk Like A Man’ and ‘Oh What a Night’\, this group will take you right back to ‘late December back in ’63’ and they will certainly ‘make this a night to remember’. \nPlease note: \n\nAn external organisation hosts this concert\, and booking fees may apply.\nAll seating is general admission within your selected block\, and seats will be available on a first-come\, first-served basis on the night. We recommend arriving early to secure the best available seats.\nTicket queries should be directed via the Concerts by Candlelight website.\nAccess tickets (including a free carer ticket) are available for this event.\nDrinks will be available from a fully-licensed bar in the Cathedral Refectory before the show and during the interval.\n\nThe income generated from welcoming events such as ‘The Music of Frankie Valli & The Four Seasons by Candlelight’ helps maintain this beautiful building\, continue our charitable work and keep our doors open for all.
URL:https://newcastlecathedral.org.uk/event/the-music-of-frankie-valli-the-four-seasons-by-candlelight-concerts-by-candlelight/
LOCATION:Newcastle Cathedral\, St Nicholas Square\, Newcastle upon Tyne\, NE1 1PF\, United Kingdom\, Newcastle\, Tyne & Wear\, NE1 1PF\, United Kingdom
CATEGORIES:Guest Concerts
ATTACH;FMTTYPE=image/jpeg:https://newcastlecathedral.org.uk/wp-content/uploads/2025/05/The-Music-of-Frankie-Valli.jpg
ORGANIZER;CN="Kinda Dusty Ltd.":MAILTO:boxoffice@kindadusty.co.uk
END:VEVENT
BEGIN:VEVENT
DTSTART;TZID=Europe/London:20260904T193000
DTEND;TZID=Europe/London:20260904T220000
DTSTAMP:20260425T020003
CREATED:20260319T150737Z
LAST-MODIFIED:20260319T150919Z
UID:10005329-1788550200-1788559200@newcastlecathedral.org.uk
SUMMARY:The Music of Ed Sheeran by Candlelight (Concerts by Candlelight)
DESCRIPTION:Calling all Ed Sheeran fans… This is the concert you’ve been ‘Thinking Out Loud’ about\, featuring a spectacular cast of world-class vocalists and epic live band. \nGet ready for an unforgettable evening\, filled with the heartwarming hits you know and love and the foot stomping classics that’ll have you dancing in the aisles! \nJoin us at the ‘Castle On The Hill’\, and get ready to ‘Sing’ the night away\, as you’re taken on a journey through Ed Sheeran’s biggest bangers – from ‘Shape Of You’ and ‘Thinking Out Loud’ to ‘I Don’t Care’\, ‘Galway Girl’ and many more\, all performed live by candlelight. \nPlease note: \n\nAn external organisation hosts this concert\, and booking fees may apply.\nAll seating is general admission within your selected block\, and seats will be available on a first-come\, first-served basis on the night. We recommend arriving early to secure the best available seats.\nTicket queries should be directed via the Concerts by Candlelight website.\nAccess tickets (including a free carer ticket) are available for this event.\nDrinks will be available from a fully-licensed bar in the Cathedral Refectory before the show and during the interval.\n\nThe income generated from welcoming events such as ‘The Music of Ed Sheeran by Candlelight’ helps maintain this beautiful building\, continue our charitable work and keep our doors open for all.
URL:https://newcastlecathedral.org.uk/event/the-music-of-ed-sheeran-by-candlelight-concerts-by-candlelight/
LOCATION:Newcastle Cathedral\, St Nicholas Square\, Newcastle upon Tyne\, NE1 1PF\, United Kingdom\, Newcastle\, Tyne & Wear\, NE1 1PF\, United Kingdom
CATEGORIES:Guest Concerts
ATTACH;FMTTYPE=image/jpeg:https://newcastlecathedral.org.uk/wp-content/uploads/2026/03/The-Music-of-Ed-Sheeran-banner.jpg
ORGANIZER;CN="Kinda Dusty Ltd.":MAILTO:boxoffice@kindadusty.co.uk
END:VEVENT
BEGIN:VEVENT
DTSTART;TZID=Europe/London:20260905T193000
DTEND;TZID=Europe/London:20260905T220000
DTSTAMP:20260425T020003
CREATED:20241222T013415Z
LAST-MODIFIED:20260319T151432Z
UID:10004384-1788636600-1788645600@newcastlecathedral.org.uk
SUMMARY:Whitney Houston by Candlelight (Concerts by Candlelight)
DESCRIPTION:Calling all Whitney Houston fans! You have been ‘Saving All Your Love’ for this ‘Moment In Time’! Get ready to experience the best of Whitney Houston ‘All At Once’\, at this epic concert. \nStarring Kieshia Chun and her Million Dollar Band\, this incredible show is guaranteed to have you dancing the night away and singing your heart out\, all night long! \nExpect to hear the biggest hits\, from ‘I Have Nothing’\, ‘Greatest Love Of All’ and ‘How Will I Know’ to ‘I Will Always Love You’\, ‘My Love Is Your Love’ and many more. \nSo\, if this sounds like the ‘Greatest’ night of all\, grab your tickets now\, get ready to ‘Dance With Somebody’\, and get ‘So Emotional’ at this stunning celebration of live music! \nPlease note: \n\nAn external organisation hosts this concert\, and booking fees may apply.\nAll seating is general admission within your selected block\, and seats will be available on a first-come\, first-served basis on the night. We recommend arriving early to secure the best available seats.\nTicket queries should be directed via the Concerts by Candlelight website.\nAccess tickets (including a free carer ticket) are available for this event.\nDrinks will be available from a fully-licensed bar in the Cathedral Refectory before the show and during an interval.\n\nEvents such as ‘Whitney Houston by Candlelight’ help raise funds to maintain this beautiful building\, continue our charitable work and keep our doors open for all.
URL:https://newcastlecathedral.org.uk/event/whitney-houston-by-candlelight-concerts-by-candlelight/
LOCATION:Newcastle Cathedral\, St Nicholas Square\, Newcastle upon Tyne\, NE1 1PF\, United Kingdom\, Newcastle\, Tyne & Wear\, NE1 1PF\, United Kingdom
CATEGORIES:Guest Concerts
ATTACH;FMTTYPE=image/jpeg:https://newcastlecathedral.org.uk/wp-content/uploads/2024/12/Whitney-Houston-by-Candlelight-banner.jpg
ORGANIZER;CN="Kinda Dusty Ltd.":MAILTO:boxoffice@kindadusty.co.uk
END:VEVENT
END:VCALENDAR