BEGIN:VCALENDAR
VERSION:2.0
PRODID:-//Newcastle Cathedral - ECPv6.15.20//NONSGML v1.0//EN
CALSCALE:GREGORIAN
METHOD:PUBLISH
X-ORIGINAL-URL:https://newcastlecathedral.org.uk
X-WR-CALDESC:Events for Newcastle Cathedral
REFRESH-INTERVAL;VALUE=DURATION:PT1H
X-Robots-Tag:noindex
X-PUBLISHED-TTL:PT1H
BEGIN:VTIMEZONE
TZID:Europe/London
BEGIN:DAYLIGHT
TZOFFSETFROM:+0000
TZOFFSETTO:+0100
TZNAME:BST
DTSTART:20240331T010000
END:DAYLIGHT
BEGIN:STANDARD
TZOFFSETFROM:+0100
TZOFFSETTO:+0000
TZNAME:GMT
DTSTART:20241027T010000
END:STANDARD
BEGIN:DAYLIGHT
TZOFFSETFROM:+0000
TZOFFSETTO:+0100
TZNAME:BST
DTSTART:20250330T010000
END:DAYLIGHT
BEGIN:STANDARD
TZOFFSETFROM:+0100
TZOFFSETTO:+0000
TZNAME:GMT
DTSTART:20251026T010000
END:STANDARD
BEGIN:DAYLIGHT
TZOFFSETFROM:+0000
TZOFFSETTO:+0100
TZNAME:BST
DTSTART:20260329T010000
END:DAYLIGHT
BEGIN:STANDARD
TZOFFSETFROM:+0100
TZOFFSETTO:+0000
TZNAME:GMT
DTSTART:20261025T010000
END:STANDARD
END:VTIMEZONE
BEGIN:VEVENT
DTSTART;VALUE=DATE:20251001
DTEND;VALUE=DATE:20251127
DTSTAMP:20260424T234334
CREATED:20250227T110010Z
LAST-MODIFIED:20251021T101411Z
UID:10004512-1759276800-1764201599@newcastlecathedral.org.uk
SUMMARY:'Jagged Edges' Printmaking\, Music & Poetry Exhibition By David Creese\, Peter Locke and Sarah Troughton
DESCRIPTION:Jagged Edges is an exhibition of printmaking\, poetry and music created by and for survivors of church-related abuse. The artists – David Creese\, Peter Locke and Sarah Troughton – draw links between their own experiences and the story of Jesus as he approached his crucifixion. \nContent warning: This exhibition includes images of torture (crucifixion) and references to moral and spiritual injuries caused by church-related abuse. \nThe Biblical ‘Stations of the Cross’ trace the path from Pilate’s house\, where Jesus was condemned to death\, to Calvary\, where he was crucified. The Chaplaincy to Survivors in the Anglican Diocese of Newcastle brought together Sarah\, David and Peter\, all of whom have personal experience of church-related abuse\, to explore the following question: ‘What happens when survivors use the Stations of the Cross as a means to speak both to their fellow survivors and to those who let them down in the communities where they were harmed?’. \nIn ‘Jagged Edges’\, each survivor has approached the Gospel Passion narratives from her or his own perspective and through a different medium – linocut prints\, music\, poetry – to co-create their own Stations of the Cross. \nThe title ‘Jagged Edges’ reflects the unique elements of survivors’ individual experiences\, which overlap but do not fit neatly together; it reflects the dissonant combination of God’s love and the harm done in and by God’s Church in those experiences\, and it reflects the fact that survivors often engage with the Church from the periphery because that is where they feel safe. \nThe new Stations draw meaningful connections between the shared narrative of Jesus’s suffering and the lived experience of individuals harmed in Christian churches. They invite us to look at Jesus’s trauma and to see his story in a particular light: as a story of abuse and as a story of God’s love for and solidarity with those who have been abused. They are also an invitation from survivors to the rest of the Church and beyond to engage in the work of repair\, reconciliation and recovery. \nClick here to learn more about the Diocese of Newcastle’s Chaplaincy to Survivors.  \nImages: ‘Foot of the Cross’\, ‘Peter’s Denial’ and ‘Simon from Cyrene’ by Sarah Troughton. \nJoin us for the following creative workshops inspired by ‘Jagged Edges’: \n‘Jagged Edges’ Printmaking\, Music & Poetry Exhibition By David Creese\, Peter Locke and Sarah Troughton \n \nWriting into Hope: Creative Writing Workshop with Kate Fox\, Inspired by ‘Jagged Edges’ \n \nWAITING LIST – Reflecting on your Relationship with Christ through the Medium of Linoprint
URL:https://newcastlecathedral.org.uk/event/jagged-edges-printmaking-poetry-exhibition/
LOCATION:Newcastle Cathedral\, St Nicholas Square\, Newcastle upon Tyne\, NE1 1PF\, United Kingdom\, Newcastle\, Tyne & Wear\, NE1 1PF\, United Kingdom
CATEGORIES:Art & Exhibitions,Other
ATTACH;FMTTYPE=image/jpeg:https://newcastlecathedral.org.uk/wp-content/uploads/2025/02/Jagged-Edges-Sarah-Troughton-artworks.jpg
END:VEVENT
BEGIN:VEVENT
DTSTART;TZID=Europe/London:20251101T100000
DTEND;TZID=Europe/London:20251101T160000
DTSTAMP:20260424T234334
CREATED:20250923T105329Z
LAST-MODIFIED:20251021T101312Z
UID:10004839-1761991200-1762012800@newcastlecathedral.org.uk
SUMMARY:Calming the Storm: A Workshop Using Visio-Divina and Mindful Photography to Explore 'Jagged Edges'
DESCRIPTION:Join us for a contemplative workshop exploring and responding to ‘Jagged Edges’\, an exhibition of printmaking\, poetry and music created by and for survivors of church-related abuse. \nLife is a beautiful gift\, but that gift can have a jagged edge which wounds and leaves us in a place of fear. Jesus’ seagoing disciples were terrified when a storm blew up\, threatening to sink the boat on which their lives depended. Their fear drove them to Jesus\, who said\, ‘Peace\, Be Still.’ Through the practice of contemplative (mindful) photography\, we will explore ways in which we can pay attention to self and environment\, learning to walk with our emotions and find Peace. \nAfter lunch\, we will use the Jagged Edges installation to ‘Be Still’ through the spiritual discipline of visio-divina. This practice can help us tell our own story and be a witness to the stories of others\, enabling us to journey towards a life lived in all its fullness. All you will need is a camera or smartphone\, and a willingness to try something new. \nThis workshop will take place in the Cathedral’s Education Room\, which is wheelchair accessible.\nIf you have any questions or find that you can no longer attend\, please email Dr Maggi Creese\, Lead Officer\, Chaplaincy to Survivors – m.creese@newcastle.anglican.org \nAbout Steve Radley\, who will deliver the workshop:\nSteve is a practical theology doctoral student\, researching healing from moral injury through photographic practices of visio-divina. He holds a BTh (hons) in theology\, MSc in Psychiatry & War\, is an accredited mindfulness facilitator\, and holds certificates in counselling and MHFA. He has personal experience of mental ill-health\, having suffered from depression and anxiety following his war deployment to Afghanistan and the Gulf as an RAF Chaplain. His ministry brings together this study and personal experience. \n‘Jagged Edges’ Printmaking\, Music & Poetry Exhibition By David Creese\, Peter Locke and Sarah Troughton
URL:https://newcastlecathedral.org.uk/event/calming-the-storm-a-workshop-using-visio-divina-and-mindful-photography-to-explore-jagged-edges/
LOCATION:Newcastle Cathedral\, St Nicholas Square\, Newcastle upon Tyne\, NE1 1PF\, United Kingdom\, Newcastle\, Tyne & Wear\, NE1 1PF\, United Kingdom
CATEGORIES:Art & Exhibitions,Other
ATTACH;FMTTYPE=image/jpeg:https://newcastlecathedral.org.uk/wp-content/uploads/2025/09/Photography-bw.jpg
END:VEVENT
BEGIN:VEVENT
DTSTART;TZID=Europe/London:20251104T140000
DTEND;TZID=Europe/London:20251104T160000
DTSTAMP:20260424T234334
CREATED:20251006T115719Z
LAST-MODIFIED:20251021T101328Z
UID:10004898-1762264800-1762272000@newcastlecathedral.org.uk
SUMMARY:Writing into Hope: Creative Writing Workshop with Kate Fox\, Inspired by ‘Jagged Edges’
DESCRIPTION:Join experienced creative writing facilitator Kate Fox for a welcoming and inspiring writing session. This workshop is suitable for everyone – whether you have no experience or some experience of creative writing. \nInspired by the ‘Jagged Edges’ exhibition\, we’ll use writing about images and objects to explore hope and resistance to despair\, grief\, and trauma in our own lives and in the world today. \nThrough individual writing exercises\, participants will respond to a prompt for a set period of time and then combine their lines to create a group collage poem. This session will focus on exploring writing in a nurturing environment\, incorporating breaks and pauses for reflection and introspection. There will be no pressure to share work out loud\, but participants will have opportunities to do so if they wish. \nThis session will take place in the Cathedral’s Education Room\, which is wheelchair accessible.\nIf you have any questions or find that you can no longer attend\, please email Dr Maggi Creese\, Lead Officer\, Chaplaincy to Survivors – m.creese@newcastle.anglican.org \nAbout Kate Fox:\nKate Fox is a stand-up poet\, spoken word artist and broadcaster. She is a regular contributor to Radio 4’s spoken word cabaret ‘The Verb’\, has made two comedy series for Radio 4\, been Poet in Residence for the Glastonbury Festival and the Great North Run and completed a PhD in stand-up comedy. She is the author of ‘Where There’s Muck There’s Bras: True Stories of the North of England’s Women’ published by Harper North\, and poetry collections including ‘On Sycamore Gap’ (Harper North\, 2024)\, ‘Bigger On the Inside’ (Smokestack Books\, 2024) and ‘The Oscillations’ (Nine Arches Press\, 2021). She is also a neurodivergent advocate whose latest show\, ‘Bigger on the Inside’\, explores neurodiversity through the lens of Doctor Who. \n‘Jagged Edges’ Printmaking\, Music & Poetry Exhibition By David Creese\, Peter Locke and Sarah Troughton
URL:https://newcastlecathedral.org.uk/event/writing-into-hope-creative-writing-workshop-with-kate-fox-inspired-by-jagged-edges/
LOCATION:Newcastle Cathedral\, St Nicholas Square\, Newcastle upon Tyne\, NE1 1PF\, United Kingdom\, Newcastle\, Tyne & Wear\, NE1 1PF\, United Kingdom
CATEGORIES:Art & Exhibitions,Other
ATTACH;FMTTYPE=image/jpeg:https://newcastlecathedral.org.uk/wp-content/uploads/2025/10/Creative-Writing-banner.jpg
END:VEVENT
BEGIN:VEVENT
DTSTART;TZID=Europe/London:20251109T133000
DTEND;TZID=Europe/London:20251109T160000
DTSTAMP:20260424T234334
CREATED:20251009T114740Z
LAST-MODIFIED:20251105T113027Z
UID:10004919-1762695000-1762704000@newcastlecathedral.org.uk
SUMMARY:WAITING LIST – Reflecting on your Relationship with Christ through the Medium of Linoprint
DESCRIPTION:In this workshop\, you will learn the basic skills of linoprinting while considering how this art form can help you reflect on your relationship with Christ and engage with His experiences. \nConsidering works from the two recent linoprint exhibitions at the Cathedral: ‘Jagged Edges’ (currently on display) and ‘Seeking the Disabled Christ’\, you will be invited to explore how you might express something of your own encounter with Christ in images. You will hear about how the processes involved in the practice of linoprint help the artists to express their faith\, and you will create your own print. No previous experience required! \nThe necessary tools and materials will be provided. However\, please be mindful of your clothes – this can be a messy process – please bring an apron if you wish and keep in mind that your sleeves may get inky if not protected or rolled up. Both Sarah Troughton and Rachel Holdforth will be on hand to provide guidance throughout the session. \nThis session will take place in the Cathedral’s Education Room\, which is accessible via a lift.\nIf you have any questions or find that you can no longer attend\, please email Dr Maggi Creese\, Lead Officer\, Chaplaincy to Survivors – m.creese@newcastle.anglican.org \nAbout the facilitators: \nSarah is a mother\, wife\, psychiatrist and educator (Associate Dean) working in the North East of England. She has a particular interest in the impact of trauma and moral injury through her work in both veterans’ mental health and addictions psychiatry. She has been involved in several projects in the Diocese of Newcastle\, including If I Told You What Would You Do? and Jagged Edges\, in which she has been able to use her own experiences of abuse in (and outside of) the Church to improve understanding of the impact of church-related abuse on the victims\, the wider church community and beyond\, with the aim of supporting better responses. She is also a member of the Diocesan Safeguarding Advisory Panel and has been a member of the steering group for Safe Spaces\, an independent organisation supporting those abused within the church. \nRachel (she/her) is a disabled\, neurodivergent and queer freelance disability theologian and advocate\, printmaker\, creative and spiritual director based in Newcastle upon Tyne. After completing a PhD in science\, she worked in disability support in higher education before training and serving as a spiritual director and lay chaplain. She has significant experience in spirituality\, disability theology and chaplaincy over the past decade in a variety of contexts\, including social care\, workplaces and theological education. Her website is wobblygoose.com. She is present on Instagram as @wobbly.goose. And on Bluesky as @wobblygoose.blueskysocial. \nImage: Sarah Troughton making a linocut print. Photo by Órla Troughton. \n‘Jagged Edges’ Printmaking\, Music & Poetry Exhibition By David Creese\, Peter Locke and Sarah Troughton
URL:https://newcastlecathedral.org.uk/event/reflecting-on-your-relationship-with-christ-through-the-medium-of-linoprint/
LOCATION:Newcastle Cathedral\, St Nicholas Square\, Newcastle upon Tyne\, NE1 1PF\, United Kingdom\, Newcastle\, Tyne & Wear\, NE1 1PF\, United Kingdom
CATEGORIES:Art & Exhibitions,Other
ATTACH;FMTTYPE=image/jpeg:https://newcastlecathedral.org.uk/wp-content/uploads/2025/10/Sarah-Troughton-lino-print.jpg
END:VEVENT
BEGIN:VEVENT
DTSTART;TZID=Europe/London:20251112T093000
DTEND;TZID=Europe/London:20251112T150000
DTSTAMP:20260424T234334
CREATED:20250929T152046Z
LAST-MODIFIED:20250929T152124Z
UID:10004896-1762939800-1762959600@newcastlecathedral.org.uk
SUMMARY:Patchworked Care: Dialogues on Motherhoods\, Recovery and Care Proceedings
DESCRIPTION:Join the Design Feminisms Research Group\, an inclusive feminist research group at Northumbria University’s School of Design\, for a day of interactive activities to discuss journeys of motherhoods\, recovery\, and care proceedings. \nPatchworked Care is a research project that explores how interactive textiles can help facilitate difficult conversations about the experiences women have at intersections of being in addiction/recovery and involved in care proceedings. This event will make use of research outcomes from two phases of work: creative workshops with women who are in recovery with experience of care proceedings\, and staff who support them. The event is made up of three interactive activities\, in which we invite attendees to interact with our creative research materials and to reflect on people’s experiences. \nActivity 1: exploring women’s lived experience\nActivity 2: crafting dialogues with professionals and carers\nActivity 3: opportunities for supported accommodation \nThe event is FREE to attend but ticketed to manage attendee numbers. Refreshments and lunch will be provided on the day. Please feel free to share this invite with others\, including women who may benefit from attending the event. \nThis event is part of Being Human Festival\, the UK’s national festival of the humanities\, taking place 6 – 15 November 2025. Led by the School of Advanced Study\, University of London\, with generous support from Research England\, in partnership with the Arts and Humanities Research Council and the British Academy. For further information\, please see beinghumanfestival.org.
URL:https://newcastlecathedral.org.uk/event/patchworked-care-dialogues-on-motherhoods-recovery-and-care-proceedings/
LOCATION:Newcastle Cathedral\, St Nicholas Square\, Newcastle upon Tyne\, NE1 1PF\, United Kingdom\, Newcastle\, Tyne & Wear\, NE1 1PF\, United Kingdom
CATEGORIES:Art & Exhibitions,Other
ATTACH;FMTTYPE=image/jpeg:https://newcastlecathedral.org.uk/wp-content/uploads/2025/09/Patchworked-Care-banner.jpg
END:VEVENT
BEGIN:VEVENT
DTSTART;TZID=Europe/London:20251113T104500
DTEND;TZID=Europe/London:20251113T120000
DTSTAMP:20260424T234334
CREATED:20251024T125326Z
LAST-MODIFIED:20251024T151033Z
UID:10004923-1763030700-1763035200@newcastlecathedral.org.uk
SUMMARY:Advent Course 2025: ‘Coming of the Saviour’
DESCRIPTION:In the weeks leading up to and during Advent\, you are warmly invited to join our ‘Coming of the Saviour’ Advent Course\, based on resources developed by Cindy Bunch. Over these sessions\, we will explore the familiar story of Christ’s birth in new and thought-provoking ways. \nThe course runs on both Thursdays and Sundays\, and participants may choose to attend either the Thursday or the Sunday session. \nThis year’s sessions will take place: \n\nThursdays from 13 November\, 10:45 am – 12 pm\nSundays from 16 November\, 11:45 am – 1 pm\n\nEach session lasts approximately 1 hour and 15 minutes. \nPlease note: Spaces are limited for all sessions. If you would like to join\, please email Ruth\, our Canon for Worship & Congregational Life\, so that we can plan accordingly. You will then receive instructions on where to meet and the location of each session within the Cathedral.
URL:https://newcastlecathedral.org.uk/event/advent-course-2025-coming-of-the-saviour/2025-11-13/
LOCATION:Newcastle Cathedral\, St Nicholas Square\, Newcastle upon Tyne\, NE1 1PF\, United Kingdom\, Newcastle\, Tyne & Wear\, NE1 1PF\, United Kingdom
CATEGORIES:Other
ATTACH;FMTTYPE=image/jpeg:https://newcastlecathedral.org.uk/wp-content/uploads/2025/10/The-Coming-of-the-Saviour-banner.jpg
ORGANIZER;CN="Newcastle Cathedral":MAILTO:office@newcastlecathedral.org.uk
END:VEVENT
BEGIN:VEVENT
DTSTART;TZID=Europe/London:20251116T114500
DTEND;TZID=Europe/London:20251116T130000
DTSTAMP:20260424T234334
CREATED:20251024T125326Z
LAST-MODIFIED:20251024T151033Z
UID:10004924-1763293500-1763298000@newcastlecathedral.org.uk
SUMMARY:Advent Course 2025: ‘Coming of the Saviour’
DESCRIPTION:In the weeks leading up to and during Advent\, you are warmly invited to join our ‘Coming of the Saviour’ Advent Course\, based on resources developed by Cindy Bunch. Over these sessions\, we will explore the familiar story of Christ’s birth in new and thought-provoking ways. \nThe course runs on both Thursdays and Sundays\, and participants may choose to attend either the Thursday or the Sunday session. \nThis year’s sessions will take place: \n\nThursdays from 13 November\, 10:45 am – 12 pm\nSundays from 16 November\, 11:45 am – 1 pm\n\nEach session lasts approximately 1 hour and 15 minutes. \nPlease note: Spaces are limited for all sessions. If you would like to join\, please email Ruth\, our Canon for Worship & Congregational Life\, so that we can plan accordingly. You will then receive instructions on where to meet and the location of each session within the Cathedral.
URL:https://newcastlecathedral.org.uk/event/advent-course-2025-coming-of-the-saviour/2025-11-16/
LOCATION:Newcastle Cathedral\, St Nicholas Square\, Newcastle upon Tyne\, NE1 1PF\, United Kingdom\, Newcastle\, Tyne & Wear\, NE1 1PF\, United Kingdom
CATEGORIES:Other
ATTACH;FMTTYPE=image/jpeg:https://newcastlecathedral.org.uk/wp-content/uploads/2025/10/The-Coming-of-the-Saviour-banner.jpg
ORGANIZER;CN="Newcastle Cathedral":MAILTO:office@newcastlecathedral.org.uk
END:VEVENT
BEGIN:VEVENT
DTSTART;TZID=Europe/London:20251120T104500
DTEND;TZID=Europe/London:20251120T120000
DTSTAMP:20260424T234334
CREATED:20251024T125326Z
LAST-MODIFIED:20251024T151033Z
UID:10004925-1763635500-1763640000@newcastlecathedral.org.uk
SUMMARY:Advent Course 2025: ‘Coming of the Saviour’
DESCRIPTION:In the weeks leading up to and during Advent\, you are warmly invited to join our ‘Coming of the Saviour’ Advent Course\, based on resources developed by Cindy Bunch. Over these sessions\, we will explore the familiar story of Christ’s birth in new and thought-provoking ways. \nThe course runs on both Thursdays and Sundays\, and participants may choose to attend either the Thursday or the Sunday session. \nThis year’s sessions will take place: \n\nThursdays from 13 November\, 10:45 am – 12 pm\nSundays from 16 November\, 11:45 am – 1 pm\n\nEach session lasts approximately 1 hour and 15 minutes. \nPlease note: Spaces are limited for all sessions. If you would like to join\, please email Ruth\, our Canon for Worship & Congregational Life\, so that we can plan accordingly. You will then receive instructions on where to meet and the location of each session within the Cathedral.
URL:https://newcastlecathedral.org.uk/event/advent-course-2025-coming-of-the-saviour/2025-11-20/
LOCATION:Newcastle Cathedral\, St Nicholas Square\, Newcastle upon Tyne\, NE1 1PF\, United Kingdom\, Newcastle\, Tyne & Wear\, NE1 1PF\, United Kingdom
CATEGORIES:Other
ATTACH;FMTTYPE=image/jpeg:https://newcastlecathedral.org.uk/wp-content/uploads/2025/10/The-Coming-of-the-Saviour-banner.jpg
ORGANIZER;CN="Newcastle Cathedral":MAILTO:office@newcastlecathedral.org.uk
END:VEVENT
BEGIN:VEVENT
DTSTART;TZID=Europe/London:20251123T114500
DTEND;TZID=Europe/London:20251123T130000
DTSTAMP:20260424T234334
CREATED:20251024T125326Z
LAST-MODIFIED:20251024T151033Z
UID:10004926-1763898300-1763902800@newcastlecathedral.org.uk
SUMMARY:Advent Course 2025: ‘Coming of the Saviour’
DESCRIPTION:In the weeks leading up to and during Advent\, you are warmly invited to join our ‘Coming of the Saviour’ Advent Course\, based on resources developed by Cindy Bunch. Over these sessions\, we will explore the familiar story of Christ’s birth in new and thought-provoking ways. \nThe course runs on both Thursdays and Sundays\, and participants may choose to attend either the Thursday or the Sunday session. \nThis year’s sessions will take place: \n\nThursdays from 13 November\, 10:45 am – 12 pm\nSundays from 16 November\, 11:45 am – 1 pm\n\nEach session lasts approximately 1 hour and 15 minutes. \nPlease note: Spaces are limited for all sessions. If you would like to join\, please email Ruth\, our Canon for Worship & Congregational Life\, so that we can plan accordingly. You will then receive instructions on where to meet and the location of each session within the Cathedral.
URL:https://newcastlecathedral.org.uk/event/advent-course-2025-coming-of-the-saviour/2025-11-23/
LOCATION:Newcastle Cathedral\, St Nicholas Square\, Newcastle upon Tyne\, NE1 1PF\, United Kingdom\, Newcastle\, Tyne & Wear\, NE1 1PF\, United Kingdom
CATEGORIES:Other
ATTACH;FMTTYPE=image/jpeg:https://newcastlecathedral.org.uk/wp-content/uploads/2025/10/The-Coming-of-the-Saviour-banner.jpg
ORGANIZER;CN="Newcastle Cathedral":MAILTO:office@newcastlecathedral.org.uk
END:VEVENT
BEGIN:VEVENT
DTSTART;TZID=Europe/London:20251127T104500
DTEND;TZID=Europe/London:20251127T120000
DTSTAMP:20260424T234334
CREATED:20251024T125326Z
LAST-MODIFIED:20251024T151033Z
UID:10004927-1764240300-1764244800@newcastlecathedral.org.uk
SUMMARY:Advent Course 2025: ‘Coming of the Saviour’
DESCRIPTION:In the weeks leading up to and during Advent\, you are warmly invited to join our ‘Coming of the Saviour’ Advent Course\, based on resources developed by Cindy Bunch. Over these sessions\, we will explore the familiar story of Christ’s birth in new and thought-provoking ways. \nThe course runs on both Thursdays and Sundays\, and participants may choose to attend either the Thursday or the Sunday session. \nThis year’s sessions will take place: \n\nThursdays from 13 November\, 10:45 am – 12 pm\nSundays from 16 November\, 11:45 am – 1 pm\n\nEach session lasts approximately 1 hour and 15 minutes. \nPlease note: Spaces are limited for all sessions. If you would like to join\, please email Ruth\, our Canon for Worship & Congregational Life\, so that we can plan accordingly. You will then receive instructions on where to meet and the location of each session within the Cathedral.
URL:https://newcastlecathedral.org.uk/event/advent-course-2025-coming-of-the-saviour/2025-11-27/
LOCATION:Newcastle Cathedral\, St Nicholas Square\, Newcastle upon Tyne\, NE1 1PF\, United Kingdom\, Newcastle\, Tyne & Wear\, NE1 1PF\, United Kingdom
CATEGORIES:Other
ATTACH;FMTTYPE=image/jpeg:https://newcastlecathedral.org.uk/wp-content/uploads/2025/10/The-Coming-of-the-Saviour-banner.jpg
ORGANIZER;CN="Newcastle Cathedral":MAILTO:office@newcastlecathedral.org.uk
END:VEVENT
BEGIN:VEVENT
DTSTART;TZID=Europe/London:20251130T114500
DTEND;TZID=Europe/London:20251130T130000
DTSTAMP:20260424T234334
CREATED:20251024T125326Z
LAST-MODIFIED:20251024T151033Z
UID:10004928-1764503100-1764507600@newcastlecathedral.org.uk
SUMMARY:Advent Course 2025: ‘Coming of the Saviour’
DESCRIPTION:In the weeks leading up to and during Advent\, you are warmly invited to join our ‘Coming of the Saviour’ Advent Course\, based on resources developed by Cindy Bunch. Over these sessions\, we will explore the familiar story of Christ’s birth in new and thought-provoking ways. \nThe course runs on both Thursdays and Sundays\, and participants may choose to attend either the Thursday or the Sunday session. \nThis year’s sessions will take place: \n\nThursdays from 13 November\, 10:45 am – 12 pm\nSundays from 16 November\, 11:45 am – 1 pm\n\nEach session lasts approximately 1 hour and 15 minutes. \nPlease note: Spaces are limited for all sessions. If you would like to join\, please email Ruth\, our Canon for Worship & Congregational Life\, so that we can plan accordingly. You will then receive instructions on where to meet and the location of each session within the Cathedral.
URL:https://newcastlecathedral.org.uk/event/advent-course-2025-coming-of-the-saviour/2025-11-30/
LOCATION:Newcastle Cathedral\, St Nicholas Square\, Newcastle upon Tyne\, NE1 1PF\, United Kingdom\, Newcastle\, Tyne & Wear\, NE1 1PF\, United Kingdom
CATEGORIES:Other
ATTACH;FMTTYPE=image/jpeg:https://newcastlecathedral.org.uk/wp-content/uploads/2025/10/The-Coming-of-the-Saviour-banner.jpg
ORGANIZER;CN="Newcastle Cathedral":MAILTO:office@newcastlecathedral.org.uk
END:VEVENT
END:VCALENDAR