BEGIN:VCALENDAR
VERSION:2.0
PRODID:-//Newcastle Cathedral - ECPv6.15.20//NONSGML v1.0//EN
CALSCALE:GREGORIAN
METHOD:PUBLISH
X-WR-CALNAME:Newcastle Cathedral
X-ORIGINAL-URL:https://newcastlecathedral.org.uk
X-WR-CALDESC:Events for Newcastle Cathedral
REFRESH-INTERVAL;VALUE=DURATION:PT1H
X-Robots-Tag:noindex
X-PUBLISHED-TTL:PT1H
BEGIN:VTIMEZONE
TZID:Europe/London
BEGIN:DAYLIGHT
TZOFFSETFROM:+0000
TZOFFSETTO:+0100
TZNAME:BST
DTSTART:20250330T010000
END:DAYLIGHT
BEGIN:STANDARD
TZOFFSETFROM:+0100
TZOFFSETTO:+0000
TZNAME:GMT
DTSTART:20251026T010000
END:STANDARD
BEGIN:DAYLIGHT
TZOFFSETFROM:+0000
TZOFFSETTO:+0100
TZNAME:BST
DTSTART:20260329T010000
END:DAYLIGHT
BEGIN:STANDARD
TZOFFSETFROM:+0100
TZOFFSETTO:+0000
TZNAME:GMT
DTSTART:20261025T010000
END:STANDARD
BEGIN:DAYLIGHT
TZOFFSETFROM:+0000
TZOFFSETTO:+0100
TZNAME:BST
DTSTART:20270328T010000
END:DAYLIGHT
BEGIN:STANDARD
TZOFFSETFROM:+0100
TZOFFSETTO:+0000
TZNAME:GMT
DTSTART:20271031T010000
END:STANDARD
END:VTIMEZONE
BEGIN:VEVENT
DTSTART;TZID=Europe/London:20260509T180000
DTEND;TZID=Europe/London:20260509T220000
DTSTAMP:20260424T174546
CREATED:20250131T100141Z
LAST-MODIFIED:20260410T181845Z
UID:10004470-1778349600-1778364000@newcastlecathedral.org.uk
SUMMARY:'Churchyard Mysteries' Tours - The Late Shows 2026
DESCRIPTION:The Late Shows\, an award-winning free after-hours culture crawl\, will return to Newcastle’s Ouseburn Valley on Friday 8 May\, and to venues across Ouseburn Valley\, Gateshead\, and central Newcastle on Saturday 9 May 2026. \nThis year\, you can step into the stories of the past with a fascinating tour through the Cathedral churchyard. Was Queen Victoria truly unamused by her visits to Newcastle? Why does a ‘Vampire Rabbit’ overlook the Cathedral? And are the legends true that a pirate is buried in the Cathedral grounds? \nDelve into these mysteries on this fun-filled mini-tour\, which lasts approximately 20 minutes. Pre-booking is essential\, as spaces are limited. \nThis tour is fully accessible for wheelchair users and follows a circular route\, starting and ending at the statue of Queen Victoria in St Nicholas Square\, NE1 1PF. \nPlease note: Newcastle Cathedral’s interior\, including toilet facilities\, will not be accessible during The Late Shows 2025. \nClick here to view The Late Shows 2026 programme. \nCoordinated by North East Museums and sponsored by Creative Central NCL.
URL:https://newcastlecathedral.org.uk/event/the-late-shows-2026/
LOCATION:Newcastle Cathedral\, St Nicholas Square\, Newcastle upon Tyne\, NE1 1PF\, United Kingdom\, Newcastle\, Tyne & Wear\, NE1 1PF\, United Kingdom
CATEGORIES:Talks & Tours,Other
ATTACH;FMTTYPE=image/jpeg:https://newcastlecathedral.org.uk/wp-content/uploads/2025/06/Churchyard-Mysteries-HODs.jpg
ORGANIZER;CN="North East Museums":MAILTO:info@northeastmuseums.org.uk
END:VEVENT
END:VCALENDAR