BEGIN:VCALENDAR
VERSION:2.0
PRODID:-//Newcastle Cathedral - ECPv6.15.20//NONSGML v1.0//EN
CALSCALE:GREGORIAN
METHOD:PUBLISH
X-WR-CALNAME:Newcastle Cathedral
X-ORIGINAL-URL:https://newcastlecathedral.org.uk
X-WR-CALDESC:Events for Newcastle Cathedral
REFRESH-INTERVAL;VALUE=DURATION:PT1H
X-Robots-Tag:noindex
X-PUBLISHED-TTL:PT1H
BEGIN:VTIMEZONE
TZID:Europe/London
BEGIN:DAYLIGHT
TZOFFSETFROM:+0000
TZOFFSETTO:+0100
TZNAME:BST
DTSTART:20250330T010000
END:DAYLIGHT
BEGIN:STANDARD
TZOFFSETFROM:+0100
TZOFFSETTO:+0000
TZNAME:GMT
DTSTART:20251026T010000
END:STANDARD
BEGIN:DAYLIGHT
TZOFFSETFROM:+0000
TZOFFSETTO:+0100
TZNAME:BST
DTSTART:20260329T010000
END:DAYLIGHT
BEGIN:STANDARD
TZOFFSETFROM:+0100
TZOFFSETTO:+0000
TZNAME:GMT
DTSTART:20261025T010000
END:STANDARD
BEGIN:DAYLIGHT
TZOFFSETFROM:+0000
TZOFFSETTO:+0100
TZNAME:BST
DTSTART:20270328T010000
END:DAYLIGHT
BEGIN:STANDARD
TZOFFSETFROM:+0100
TZOFFSETTO:+0000
TZNAME:GMT
DTSTART:20271031T010000
END:STANDARD
END:VTIMEZONE
BEGIN:VEVENT
DTSTART;TZID=Europe/London:20260601T183000
DTEND;TZID=Europe/London:20260601T203000
DTSTAMP:20260424T191451
CREATED:20260417T123959Z
LAST-MODIFIED:20260417T130229Z
UID:10005345-1780338600-1780345800@newcastlecathedral.org.uk
SUMMARY:The Bible Course
DESCRIPTION:Do you want to know more about the Bible? \nAre you interested in Faith but don’t know where to start? \nThe Bible Course from the Bible Society is an 8-session\, interactive small-group resource designed to help participants understand the ‘Big Story’ of the Bible from Genesis to Revelation. \nThe course combines video teaching\, group discussion\, and daily readings to improve confidence in reading the Bible and applying it to daily life. \nThis FREE\, no-commitment course will be an opportunity to explore\, learn and ask questions in a safe and friendly space. \nSpaces are limited. The eight-week programme will begin each week at approximately 6.30pm with food\, followed by the session in a designated area of Newcastle Cathedral\, fully accessible via a lift. Full access information will be shared in advance. Please note: Session end times are approximate. \nIf you would like to attend\, please email Ruth\, our Canon for Worship & Congregational Life\, at ruth.hulse@newcastlecathedral.org.uk
URL:https://newcastlecathedral.org.uk/event/the-bible-course/2026-06-01/
LOCATION:Newcastle Cathedral\, St Nicholas Square\, Newcastle upon Tyne\, NE1 1PF\, United Kingdom\, Newcastle\, Tyne & Wear\, NE1 1PF\, United Kingdom
CATEGORIES:Other
ATTACH;FMTTYPE=image/jpeg:https://newcastlecathedral.org.uk/wp-content/uploads/2026/04/Bible-Course-banner.jpg
END:VEVENT
BEGIN:VEVENT
DTSTART;TZID=Europe/London:20260602T100000
DTEND;TZID=Europe/London:20260602T133000
DTSTAMP:20260424T191451
CREATED:20260320T125444Z
LAST-MODIFIED:20260415T133558Z
UID:10005331-1780394400-1780407000@newcastlecathedral.org.uk
SUMMARY:Volunteers’ Week Recruitment and Awareness Fair
DESCRIPTION:Connected Voice\, Newcastle Cathedral and Volunteer Centre Newcastle invite local charities to book a place at our Volunteers’ Week 2026 Recruitment and Awareness Fair. \nThe event will be open to anyone interested in volunteering\, offering a chance to find out more about the incredible work you do. \nSet-up will take place from 9am\, followed by a Volunteers’ Celebration Service at 2pm\, open to all your volunteers and those who access your services (refreshments will be served afterwards\, with more details to follow). \nThis year’s theme is ‘Inspire’– a perfect opportunity to celebrate the incredible contribution of your current volunteers while inspiring the next wave of people to get involved. \nIf your charity would like to take part\, please note that spaces are limited and will be allocated on a first-come\, first-served basis. \nTo register your interest\, please complete the form below:\nVolunteers’ Week 2026 @ Newcastle Cathedral – Fill in form
URL:https://newcastlecathedral.org.uk/event/volunteers-fair/
LOCATION:Newcastle Cathedral\, St Nicholas Square\, Newcastle upon Tyne\, NE1 1PF\, United Kingdom\, Newcastle\, Tyne & Wear\, NE1 1PF\, United Kingdom
CATEGORIES:Other
ATTACH;FMTTYPE=image/jpeg:https://newcastlecathedral.org.uk/wp-content/uploads/2026/03/Volunteers-Week-banner.jpg
ORGANIZER;CN="Newcastle Cathedral":MAILTO:office@newcastlecathedral.org.uk
END:VEVENT
BEGIN:VEVENT
DTSTART;TZID=Europe/London:20260608T183000
DTEND;TZID=Europe/London:20260608T203000
DTSTAMP:20260424T191451
CREATED:20260417T123959Z
LAST-MODIFIED:20260417T130229Z
UID:10005346-1780943400-1780950600@newcastlecathedral.org.uk
SUMMARY:The Bible Course
DESCRIPTION:Do you want to know more about the Bible? \nAre you interested in Faith but don’t know where to start? \nThe Bible Course from the Bible Society is an 8-session\, interactive small-group resource designed to help participants understand the ‘Big Story’ of the Bible from Genesis to Revelation. \nThe course combines video teaching\, group discussion\, and daily readings to improve confidence in reading the Bible and applying it to daily life. \nThis FREE\, no-commitment course will be an opportunity to explore\, learn and ask questions in a safe and friendly space. \nSpaces are limited. The eight-week programme will begin each week at approximately 6.30pm with food\, followed by the session in a designated area of Newcastle Cathedral\, fully accessible via a lift. Full access information will be shared in advance. Please note: Session end times are approximate. \nIf you would like to attend\, please email Ruth\, our Canon for Worship & Congregational Life\, at ruth.hulse@newcastlecathedral.org.uk
URL:https://newcastlecathedral.org.uk/event/the-bible-course/2026-06-08/
LOCATION:Newcastle Cathedral\, St Nicholas Square\, Newcastle upon Tyne\, NE1 1PF\, United Kingdom\, Newcastle\, Tyne & Wear\, NE1 1PF\, United Kingdom
CATEGORIES:Other
ATTACH;FMTTYPE=image/jpeg:https://newcastlecathedral.org.uk/wp-content/uploads/2026/04/Bible-Course-banner.jpg
END:VEVENT
BEGIN:VEVENT
DTSTART;TZID=Europe/London:20260615T183000
DTEND;TZID=Europe/London:20260615T203000
DTSTAMP:20260424T191451
CREATED:20260417T123959Z
LAST-MODIFIED:20260417T130229Z
UID:10005347-1781548200-1781555400@newcastlecathedral.org.uk
SUMMARY:The Bible Course
DESCRIPTION:Do you want to know more about the Bible? \nAre you interested in Faith but don’t know where to start? \nThe Bible Course from the Bible Society is an 8-session\, interactive small-group resource designed to help participants understand the ‘Big Story’ of the Bible from Genesis to Revelation. \nThe course combines video teaching\, group discussion\, and daily readings to improve confidence in reading the Bible and applying it to daily life. \nThis FREE\, no-commitment course will be an opportunity to explore\, learn and ask questions in a safe and friendly space. \nSpaces are limited. The eight-week programme will begin each week at approximately 6.30pm with food\, followed by the session in a designated area of Newcastle Cathedral\, fully accessible via a lift. Full access information will be shared in advance. Please note: Session end times are approximate. \nIf you would like to attend\, please email Ruth\, our Canon for Worship & Congregational Life\, at ruth.hulse@newcastlecathedral.org.uk
URL:https://newcastlecathedral.org.uk/event/the-bible-course/2026-06-15/
LOCATION:Newcastle Cathedral\, St Nicholas Square\, Newcastle upon Tyne\, NE1 1PF\, United Kingdom\, Newcastle\, Tyne & Wear\, NE1 1PF\, United Kingdom
CATEGORIES:Other
ATTACH;FMTTYPE=image/jpeg:https://newcastlecathedral.org.uk/wp-content/uploads/2026/04/Bible-Course-banner.jpg
END:VEVENT
BEGIN:VEVENT
DTSTART;TZID=Europe/London:20260622T183000
DTEND;TZID=Europe/London:20260622T203000
DTSTAMP:20260424T191451
CREATED:20260417T123959Z
LAST-MODIFIED:20260417T130229Z
UID:10005348-1782153000-1782160200@newcastlecathedral.org.uk
SUMMARY:The Bible Course
DESCRIPTION:Do you want to know more about the Bible? \nAre you interested in Faith but don’t know where to start? \nThe Bible Course from the Bible Society is an 8-session\, interactive small-group resource designed to help participants understand the ‘Big Story’ of the Bible from Genesis to Revelation. \nThe course combines video teaching\, group discussion\, and daily readings to improve confidence in reading the Bible and applying it to daily life. \nThis FREE\, no-commitment course will be an opportunity to explore\, learn and ask questions in a safe and friendly space. \nSpaces are limited. The eight-week programme will begin each week at approximately 6.30pm with food\, followed by the session in a designated area of Newcastle Cathedral\, fully accessible via a lift. Full access information will be shared in advance. Please note: Session end times are approximate. \nIf you would like to attend\, please email Ruth\, our Canon for Worship & Congregational Life\, at ruth.hulse@newcastlecathedral.org.uk
URL:https://newcastlecathedral.org.uk/event/the-bible-course/2026-06-22/
LOCATION:Newcastle Cathedral\, St Nicholas Square\, Newcastle upon Tyne\, NE1 1PF\, United Kingdom\, Newcastle\, Tyne & Wear\, NE1 1PF\, United Kingdom
CATEGORIES:Other
ATTACH;FMTTYPE=image/jpeg:https://newcastlecathedral.org.uk/wp-content/uploads/2026/04/Bible-Course-banner.jpg
END:VEVENT
BEGIN:VEVENT
DTSTART;TZID=Europe/London:20260629T183000
DTEND;TZID=Europe/London:20260629T203000
DTSTAMP:20260424T191451
CREATED:20260417T123959Z
LAST-MODIFIED:20260417T130229Z
UID:10005349-1782757800-1782765000@newcastlecathedral.org.uk
SUMMARY:The Bible Course
DESCRIPTION:Do you want to know more about the Bible? \nAre you interested in Faith but don’t know where to start? \nThe Bible Course from the Bible Society is an 8-session\, interactive small-group resource designed to help participants understand the ‘Big Story’ of the Bible from Genesis to Revelation. \nThe course combines video teaching\, group discussion\, and daily readings to improve confidence in reading the Bible and applying it to daily life. \nThis FREE\, no-commitment course will be an opportunity to explore\, learn and ask questions in a safe and friendly space. \nSpaces are limited. The eight-week programme will begin each week at approximately 6.30pm with food\, followed by the session in a designated area of Newcastle Cathedral\, fully accessible via a lift. Full access information will be shared in advance. Please note: Session end times are approximate. \nIf you would like to attend\, please email Ruth\, our Canon for Worship & Congregational Life\, at ruth.hulse@newcastlecathedral.org.uk
URL:https://newcastlecathedral.org.uk/event/the-bible-course/2026-06-29/
LOCATION:Newcastle Cathedral\, St Nicholas Square\, Newcastle upon Tyne\, NE1 1PF\, United Kingdom\, Newcastle\, Tyne & Wear\, NE1 1PF\, United Kingdom
CATEGORIES:Other
ATTACH;FMTTYPE=image/jpeg:https://newcastlecathedral.org.uk/wp-content/uploads/2026/04/Bible-Course-banner.jpg
END:VEVENT
END:VCALENDAR