BEGIN:VCALENDAR
VERSION:2.0
PRODID:-//Newcastle Cathedral - ECPv6.15.20//NONSGML v1.0//EN
CALSCALE:GREGORIAN
METHOD:PUBLISH
X-WR-CALNAME:Newcastle Cathedral
X-ORIGINAL-URL:https://newcastlecathedral.org.uk
X-WR-CALDESC:Events for Newcastle Cathedral
REFRESH-INTERVAL;VALUE=DURATION:PT1H
X-Robots-Tag:noindex
X-PUBLISHED-TTL:PT1H
BEGIN:VTIMEZONE
TZID:Europe/London
BEGIN:DAYLIGHT
TZOFFSETFROM:+0000
TZOFFSETTO:+0100
TZNAME:BST
DTSTART:20250330T010000
END:DAYLIGHT
BEGIN:STANDARD
TZOFFSETFROM:+0100
TZOFFSETTO:+0000
TZNAME:GMT
DTSTART:20251026T010000
END:STANDARD
BEGIN:DAYLIGHT
TZOFFSETFROM:+0000
TZOFFSETTO:+0100
TZNAME:BST
DTSTART:20260329T010000
END:DAYLIGHT
BEGIN:STANDARD
TZOFFSETFROM:+0100
TZOFFSETTO:+0000
TZNAME:GMT
DTSTART:20261025T010000
END:STANDARD
BEGIN:DAYLIGHT
TZOFFSETFROM:+0000
TZOFFSETTO:+0100
TZNAME:BST
DTSTART:20270328T010000
END:DAYLIGHT
BEGIN:STANDARD
TZOFFSETFROM:+0100
TZOFFSETTO:+0000
TZNAME:GMT
DTSTART:20271031T010000
END:STANDARD
END:VTIMEZONE
BEGIN:VEVENT
DTSTART;TZID=Europe/London:20260926T120000
DTEND;TZID=Europe/London:20260926T143000
DTSTAMP:20260424T234248
CREATED:20260223T150951Z
LAST-MODIFIED:20260420T143445Z
UID:10005297-1790424000-1790433000@newcastlecathedral.org.uk
SUMMARY:Family Silent Disco: Awesome Silent Discos
DESCRIPTION:Join the team behind the sell-out Silent Discos on the Beach for a silent disco like no other\, set within the awe-inspiring surroundings of Newcastle Cathedral. Beneath neon-lit arches and bathed in atmospheric light\, slip on your LED headset and dance the night away to non-stop classics in an unforgettable setting. \nWant to party with your kids but can’t bring them to the adults-only Silent Disco? Here’s your chance. Enjoy all the party vibes of this evening’s Silent Disco – without the 18+ age restriction. \nThis event is aimed at music-loving families who want to party together. \nOur DJs will be playing a mix of ’90s and ’00s hits\, modern bangers\, and kids’ party favourites – so everyone will be boogieing! \nEvents like this play a vital role in sustaining the Cathedral for the whole community\, supporting our work as a registered charity and helping to ensure our doors remain open to all.
URL:https://newcastlecathedral.org.uk/event/family-silent-disco-awesome-silent-discos/
LOCATION:Newcastle Cathedral\, St Nicholas Square\, Newcastle upon Tyne\, NE1 1PF\, United Kingdom\, Newcastle\, Tyne & Wear\, NE1 1PF\, United Kingdom
CATEGORIES:Other
ATTACH;FMTTYPE=image/jpeg:https://newcastlecathedral.org.uk/wp-content/uploads/2026/02/Silent-Disco-at-Newcastle-Cathedral-Courtesy-of-Awesome-Silent-Discos.jpg
ORGANIZER;CN="Awesome Silent Discos":MAILTO:hello@awesomesilentdiscos.co.uk
END:VEVENT
BEGIN:VEVENT
DTSTART;TZID=Europe/London:20260926T153000
DTEND;TZID=Europe/London:20260926T180000
DTSTAMP:20260424T234248
CREATED:20260223T150902Z
LAST-MODIFIED:20260420T091341Z
UID:10005298-1790436600-1790445600@newcastlecathedral.org.uk
SUMMARY:Daytime Disco (Afternoon Session): Awesome Silent Discos
DESCRIPTION:Join the team behind the sell-out Silent Discos on the Beach for a silent disco like no other\, set within the awe-inspiring surroundings of Newcastle Cathedral. Beneath neon-lit arches and bathed in atmospheric light\, slip on your LED headset and dance the night away to non-stop classics in an unforgettable setting. \nAt the heart of the evening is the ultimate Battle of the Decades – will it be the 80s\, 90s or 00s? The choice is yours. With multiple channels to switch between\, you control the soundtrack while sharing the dancefloor with friends old and new. \nEvents like this play a vital role in sustaining the Cathedral for the whole community\, supporting our work as a registered charity and helping to ensure our doors remain open to all.
URL:https://newcastlecathedral.org.uk/event/daytime-disco-afternoon-session-awesome-silent-discos/
LOCATION:Newcastle Cathedral\, St Nicholas Square\, Newcastle upon Tyne\, NE1 1PF\, United Kingdom\, Newcastle\, Tyne & Wear\, NE1 1PF\, United Kingdom
CATEGORIES:Other
ATTACH;FMTTYPE=image/jpeg:https://newcastlecathedral.org.uk/wp-content/uploads/2026/02/Silent-Disco-at-Newcastle-Cathedral-Courtesy-of-Awesome-Silent-Discos.jpg
ORGANIZER;CN="Awesome Silent Discos":MAILTO:hello@awesomesilentdiscos.co.uk
END:VEVENT
BEGIN:VEVENT
DTSTART;TZID=Europe/London:20260926T183000
DTEND;TZID=Europe/London:20260926T210000
DTSTAMP:20260424T234248
CREATED:20260223T144839Z
LAST-MODIFIED:20260420T091354Z
UID:10005296-1790447400-1790456400@newcastlecathedral.org.uk
SUMMARY:Daytime Disco (Early Evening Session): Awesome Silent Discos
DESCRIPTION:Join the team behind the sell-out Silent Discos on the Beach for a silent disco like no other\, set within the awe-inspiring surroundings of Newcastle Cathedral. Beneath neon-lit arches and bathed in atmospheric light\, slip on your LED headset and dance the night away to non-stop classics in an unforgettable setting. \nAt the heart of the evening is the ultimate Battle of the Decades – will it be the 80s\, 90s or 00s? The choice is yours. With multiple channels to switch between\, you control the soundtrack while sharing the dancefloor with friends old and new. \nEvents like this play a vital role in sustaining the Cathedral for the whole community\, supporting our work as a registered charity and helping to ensure our doors remain open to all.
URL:https://newcastlecathedral.org.uk/event/daytime-disco-awesome-silent-discos/
LOCATION:Newcastle Cathedral\, St Nicholas Square\, Newcastle upon Tyne\, NE1 1PF\, United Kingdom\, Newcastle\, Tyne & Wear\, NE1 1PF\, United Kingdom
CATEGORIES:Other
ATTACH;FMTTYPE=image/jpeg:https://newcastlecathedral.org.uk/wp-content/uploads/2026/02/Silent-Disco-at-Newcastle-Cathedral-Courtesy-of-Awesome-Silent-Discos.jpg
ORGANIZER;CN="Awesome Silent Discos":MAILTO:hello@awesomesilentdiscos.co.uk
END:VEVENT
END:VCALENDAR