BEGIN:VCALENDAR
VERSION:2.0
PRODID:-//Newcastle Cathedral - ECPv6.15.20//NONSGML v1.0//EN
CALSCALE:GREGORIAN
METHOD:PUBLISH
X-ORIGINAL-URL:https://newcastlecathedral.org.uk
X-WR-CALDESC:Events for Newcastle Cathedral
REFRESH-INTERVAL;VALUE=DURATION:PT1H
X-Robots-Tag:noindex
X-PUBLISHED-TTL:PT1H
BEGIN:VTIMEZONE
TZID:Europe/London
BEGIN:DAYLIGHT
TZOFFSETFROM:+0000
TZOFFSETTO:+0100
TZNAME:BST
DTSTART:20250330T010000
END:DAYLIGHT
BEGIN:STANDARD
TZOFFSETFROM:+0100
TZOFFSETTO:+0000
TZNAME:GMT
DTSTART:20251026T010000
END:STANDARD
BEGIN:DAYLIGHT
TZOFFSETFROM:+0000
TZOFFSETTO:+0100
TZNAME:BST
DTSTART:20260329T010000
END:DAYLIGHT
BEGIN:STANDARD
TZOFFSETFROM:+0100
TZOFFSETTO:+0000
TZNAME:GMT
DTSTART:20261025T010000
END:STANDARD
BEGIN:DAYLIGHT
TZOFFSETFROM:+0000
TZOFFSETTO:+0100
TZNAME:BST
DTSTART:20270328T010000
END:DAYLIGHT
BEGIN:STANDARD
TZOFFSETFROM:+0100
TZOFFSETTO:+0000
TZNAME:GMT
DTSTART:20271031T010000
END:STANDARD
END:VTIMEZONE
BEGIN:VEVENT
DTSTART;VALUE=DATE:20260218
DTEND;VALUE=DATE:20260403
DTSTAMP:20260424T193243
CREATED:20260202T102310Z
LAST-MODIFIED:20260209T144935Z
UID:10005277-1771372800-1775174399@newcastlecathedral.org.uk
SUMMARY:Forty Cathedrals in Forty Days – A Virtual Pilgrimage with the Dean
DESCRIPTION:You are invited to join Lee as he listens to a sermon from a different Anglican Cathedral from across the world every day during Lent.  You will receive a WhatsApp link to a YouTube livestream so you can listen to the sermon at your convenience and have the opportunity to share a brief comment with others in the group. \nThere will also be a couple of opportunities to come together on Zoom to reflect with others. \nPlease email Lee at dean@newcastlecathedral.org.uk with your mobile number if you wish to be added to the pilgrimage party. \nGDPR Statement:\nBy providing your email address and mobile number\, you consent to the use of your mobile number solely for managing the virtual pilgrimage WhatsApp ‘Community’ and your email address solely for related communications. Your information will be stored securely\, will not be shared with third parties\, and will remain hidden from other group members unless you choose to message them. You may request access to\, or deletion of\, your information at any time in accordance with our Privacy Policy. \nClick here to view Newcastle Cathedral’s Privacy Policy.
URL:https://newcastlecathedral.org.uk/event/forty-cathedrals-in-forty-days-a-virtual-pilgrimage-with-the-dean/
LOCATION:Tyne & Wear
CATEGORIES:Other,Lent, Holy Week & Easter
END:VEVENT
BEGIN:VEVENT
DTSTART;TZID=Europe/London:20260315T120000
DTEND;TZID=Europe/London:20260315T160000
DTSTAMP:20260424T193243
CREATED:20250122T084555Z
LAST-MODIFIED:20260129T170606Z
UID:10004454-1773576000-1773590400@newcastlecathedral.org.uk
SUMMARY:Mother’s Day Afternoon Tea
DESCRIPTION:Celebrate Mothering Sunday with afternoon tea at Café 16 in the Cathedral refectory. Enjoy a delicious selection of sandwiches and savoury and sweet treats\, with baked goods made at HMP Northumberland. \nAfternoon tea includes your choice of tea\, coffee\, or a glass of Prosecco\, priced at £4 per glass or £20 per bottle. \nBooking is essential; slots are available from 12 midday to 4pm. For details of the menu\, please visit cafe16.co.uk. To reserve your table\, contact Clare Guiney at  cafe16cath@oswinproject.org.uk or call 07726 411357. \nAll Age Sung Eucharist on Mothering Sunday
URL:https://newcastlecathedral.org.uk/event/mothers-day-afternoon-tea/
LOCATION:Café 16 in Newcastle Cathedral\, St Nicholas Square\, Newcastle upon Tyne\, NE1 1PF\, United Kingdom
CATEGORIES:Other
ATTACH;FMTTYPE=image/jpeg:https://newcastlecathedral.org.uk/wp-content/uploads/2023/02/Mothers-Day-Afternoon-Tea.jpg
ORGANIZER;CN="Caf%C3%A9 16 (run by the Oswin Project)":MAILTO:cafe16cath@oswinproject.org.uk
END:VEVENT
END:VCALENDAR