BEGIN:VCALENDAR
VERSION:2.0
PRODID:-//Newcastle Cathedral - ECPv6.15.20//NONSGML v1.0//EN
CALSCALE:GREGORIAN
METHOD:PUBLISH
X-ORIGINAL-URL:https://newcastlecathedral.org.uk
X-WR-CALDESC:Events for Newcastle Cathedral
REFRESH-INTERVAL;VALUE=DURATION:PT1H
X-Robots-Tag:noindex
X-PUBLISHED-TTL:PT1H
BEGIN:VTIMEZONE
TZID:Europe/London
BEGIN:DAYLIGHT
TZOFFSETFROM:+0000
TZOFFSETTO:+0100
TZNAME:BST
DTSTART:20250330T010000
END:DAYLIGHT
BEGIN:STANDARD
TZOFFSETFROM:+0100
TZOFFSETTO:+0000
TZNAME:GMT
DTSTART:20251026T010000
END:STANDARD
BEGIN:DAYLIGHT
TZOFFSETFROM:+0000
TZOFFSETTO:+0100
TZNAME:BST
DTSTART:20260329T010000
END:DAYLIGHT
BEGIN:STANDARD
TZOFFSETFROM:+0100
TZOFFSETTO:+0000
TZNAME:GMT
DTSTART:20261025T010000
END:STANDARD
BEGIN:DAYLIGHT
TZOFFSETFROM:+0000
TZOFFSETTO:+0100
TZNAME:BST
DTSTART:20270328T010000
END:DAYLIGHT
BEGIN:STANDARD
TZOFFSETFROM:+0100
TZOFFSETTO:+0000
TZNAME:GMT
DTSTART:20271031T010000
END:STANDARD
END:VTIMEZONE
BEGIN:VEVENT
DTSTART;TZID=Europe/London:20260209T183000
DTEND;TZID=Europe/London:20260209T203000
DTSTAMP:20260424T234530
CREATED:20251205T104841Z
LAST-MODIFIED:20251208T100506Z
UID:10005013-1770661800-1770669000@newcastlecathedral.org.uk
SUMMARY:Start: God\, Jesus and the Journey of Life in 6 Sessions
DESCRIPTION:Got questions about life and the Christian faith? \nIf you’re looking to explore faith\, then maybe it’s time to make a ‘Start’. Normally run in groups of about 6 to 10 people\, each session involves video clips\, exercises\, group discussion and time for reflection. Each session is free to attend. \n\nWhat’s life all about\, and where are we going?\nDoes God exist\, and what is He like?\nWhy is the world in such a mess?\nWho was Jesus\, and is He relevant?\nWhat does Jesus’ death on the cross mean for me today?\nHow far can I go forward with God in my life?\n\n‘Start’ will help you discover more about God\, Jesus and the journey of life. \nSpaces are limited. The six-week programme will begin each week at approximately 6.30pm with food\, followed by the session in a designated area of Newcastle Cathedral\, fully accessible via a lift.  Full access information will be shared in advance. Please note: Session end times are approximate. \nIf you would like to attend\, please email Ruth\, our Canon for Worship & Congregational Life\, at ruth.hulse@newcastlecathedral.org.uk
URL:https://newcastlecathedral.org.uk/event/start-god-jesus-and-the-journey-of-life-in-6-sessions/2026-02-09/
LOCATION:Newcastle Cathedral\, St Nicholas Square\, Newcastle upon Tyne\, NE1 1PF\, United Kingdom\, Newcastle\, Tyne & Wear\, NE1 1PF\, United Kingdom
CATEGORIES:Other
ATTACH;FMTTYPE=image/jpeg:https://newcastlecathedral.org.uk/wp-content/uploads/2025/12/Start-banner.jpg
END:VEVENT
BEGIN:VEVENT
DTSTART;TZID=Europe/London:20260212T133000
DTEND;TZID=Europe/London:20260212T150000
DTSTAMP:20260424T234530
CREATED:20260210T154542Z
LAST-MODIFIED:20260210T154627Z
UID:10005280-1770903000-1770908400@newcastlecathedral.org.uk
SUMMARY:ESOL Conversation Classes (English for All)
DESCRIPTION:If English is your second language\, English for All offers free\, person-centred English conversation classes to help you practise and grow in confidence. \nThese friendly\, informal sessions are open to anyone with some basic English who would like to build their speaking skills and improve everyday communication. \nYou’re welcome to simply turn up on the day – there’s no need to register in advance. Meet outside Café 16 in the Cathedral Refectory. \nFor more information or if you have any questions\, please email nicola.maxwell@newcastlecathedral.org.uk.
URL:https://newcastlecathedral.org.uk/event/esol-conversation-classes-english-for-all/2026-02-12/
LOCATION:Newcastle Cathedral\, St Nicholas Square\, Newcastle upon Tyne\, NE1 1PF\, United Kingdom\, Newcastle\, Tyne & Wear\, NE1 1PF\, United Kingdom
CATEGORIES:Other
ATTACH;FMTTYPE=image/jpeg:https://newcastlecathedral.org.uk/wp-content/uploads/2026/02/English-For-All-banner.jpg
END:VEVENT
BEGIN:VEVENT
DTSTART;TZID=Europe/London:20260215T150000
DTEND;TZID=Europe/London:20260215T160000
DTSTAMP:20260424T234530
CREATED:20260130T123709Z
LAST-MODIFIED:20260204T030656Z
UID:10005267-1771167600-1771171200@newcastlecathedral.org.uk
SUMMARY:How to Pray with Evensong Through Lent
DESCRIPTION:Evensong offers a deeply reflective way to pray\, combining Scripture\, music and silence in a rhythm that invites us to slow down and listen for God’s voice. \nOver refreshments\, we will explore the practice and prayerfulness of Evensong\, leading into that day’s service of Choral Evensong at 4pm. \nWhy not make Evensong a regular part of your Lenten journey this year? \nTo RSVP\, please email ruth.hulse@newcastlecathedral.org.uk or speak to Ruth in person at a service. This will ensure there are enough refreshments for everyone. \nClick here for our weekly Services & Music schedule.
URL:https://newcastlecathedral.org.uk/event/how-to-pray-with-evensong-through-lent/
LOCATION:Newcastle Cathedral\, St Nicholas Square\, Newcastle upon Tyne\, NE1 1PF\, United Kingdom\, Newcastle\, Tyne & Wear\, NE1 1PF\, United Kingdom
CATEGORIES:Other,Lent, Holy Week & Easter
ATTACH;FMTTYPE=image/jpeg:https://newcastlecathedral.org.uk/wp-content/uploads/2024/04/Cathedral-Quire-Courtesy-of-Kevin-Nixon-Photography.jpg
ORGANIZER;CN="Newcastle Cathedral":MAILTO:office@newcastlecathedral.org.uk
END:VEVENT
END:VCALENDAR