BEGIN:VCALENDAR
VERSION:2.0
PRODID:-//Newcastle Cathedral - ECPv6.15.20//NONSGML v1.0//EN
CALSCALE:GREGORIAN
METHOD:PUBLISH
X-ORIGINAL-URL:https://newcastlecathedral.org.uk
X-WR-CALDESC:Events for Newcastle Cathedral
REFRESH-INTERVAL;VALUE=DURATION:PT1H
X-Robots-Tag:noindex
X-PUBLISHED-TTL:PT1H
BEGIN:VTIMEZONE
TZID:Europe/London
BEGIN:DAYLIGHT
TZOFFSETFROM:+0000
TZOFFSETTO:+0100
TZNAME:BST
DTSTART:20250330T010000
END:DAYLIGHT
BEGIN:STANDARD
TZOFFSETFROM:+0100
TZOFFSETTO:+0000
TZNAME:GMT
DTSTART:20251026T010000
END:STANDARD
BEGIN:DAYLIGHT
TZOFFSETFROM:+0000
TZOFFSETTO:+0100
TZNAME:BST
DTSTART:20260329T010000
END:DAYLIGHT
BEGIN:STANDARD
TZOFFSETFROM:+0100
TZOFFSETTO:+0000
TZNAME:GMT
DTSTART:20261025T010000
END:STANDARD
BEGIN:DAYLIGHT
TZOFFSETFROM:+0000
TZOFFSETTO:+0100
TZNAME:BST
DTSTART:20270328T010000
END:DAYLIGHT
BEGIN:STANDARD
TZOFFSETFROM:+0100
TZOFFSETTO:+0000
TZNAME:GMT
DTSTART:20271031T010000
END:STANDARD
END:VTIMEZONE
BEGIN:VEVENT
DTSTART;TZID=Europe/London:20260713T183000
DTEND;TZID=Europe/London:20260713T203000
DTSTAMP:20260424T234530
CREATED:20260417T123959Z
LAST-MODIFIED:20260417T130229Z
UID:10005351-1783967400-1783974600@newcastlecathedral.org.uk
SUMMARY:The Bible Course
DESCRIPTION:Do you want to know more about the Bible? \nAre you interested in Faith but don’t know where to start? \nThe Bible Course from the Bible Society is an 8-session\, interactive small-group resource designed to help participants understand the ‘Big Story’ of the Bible from Genesis to Revelation. \nThe course combines video teaching\, group discussion\, and daily readings to improve confidence in reading the Bible and applying it to daily life. \nThis FREE\, no-commitment course will be an opportunity to explore\, learn and ask questions in a safe and friendly space. \nSpaces are limited. The eight-week programme will begin each week at approximately 6.30pm with food\, followed by the session in a designated area of Newcastle Cathedral\, fully accessible via a lift. Full access information will be shared in advance. Please note: Session end times are approximate. \nIf you would like to attend\, please email Ruth\, our Canon for Worship & Congregational Life\, at ruth.hulse@newcastlecathedral.org.uk
URL:https://newcastlecathedral.org.uk/event/the-bible-course/2026-07-13/
LOCATION:Newcastle Cathedral\, St Nicholas Square\, Newcastle upon Tyne\, NE1 1PF\, United Kingdom\, Newcastle\, Tyne & Wear\, NE1 1PF\, United Kingdom
CATEGORIES:Other
ATTACH;FMTTYPE=image/jpeg:https://newcastlecathedral.org.uk/wp-content/uploads/2026/04/Bible-Course-banner.jpg
END:VEVENT
END:VCALENDAR