BEGIN:VCALENDAR
VERSION:2.0
PRODID:-//Newcastle Cathedral - ECPv6.15.18//NONSGML v1.0//EN
CALSCALE:GREGORIAN
METHOD:PUBLISH
X-WR-CALNAME:Newcastle Cathedral
X-ORIGINAL-URL:https://newcastlecathedral.org.uk
X-WR-CALDESC:Events for Newcastle Cathedral
REFRESH-INTERVAL;VALUE=DURATION:PT1H
X-Robots-Tag:noindex
X-PUBLISHED-TTL:PT1H
BEGIN:VTIMEZONE
TZID:Europe/London
BEGIN:DAYLIGHT
TZOFFSETFROM:+0000
TZOFFSETTO:+0100
TZNAME:BST
DTSTART:20250330T010000
END:DAYLIGHT
BEGIN:STANDARD
TZOFFSETFROM:+0100
TZOFFSETTO:+0000
TZNAME:GMT
DTSTART:20251026T010000
END:STANDARD
BEGIN:DAYLIGHT
TZOFFSETFROM:+0000
TZOFFSETTO:+0100
TZNAME:BST
DTSTART:20260329T010000
END:DAYLIGHT
BEGIN:STANDARD
TZOFFSETFROM:+0100
TZOFFSETTO:+0000
TZNAME:GMT
DTSTART:20261025T010000
END:STANDARD
BEGIN:DAYLIGHT
TZOFFSETFROM:+0000
TZOFFSETTO:+0100
TZNAME:BST
DTSTART:20270328T010000
END:DAYLIGHT
BEGIN:STANDARD
TZOFFSETFROM:+0100
TZOFFSETTO:+0000
TZNAME:GMT
DTSTART:20271031T010000
END:STANDARD
END:VTIMEZONE
BEGIN:VEVENT
DTSTART;TZID=Europe/London:20260305T120000
DTEND;TZID=Europe/London:20260305T130000
DTSTAMP:20260421T094042
CREATED:20250424T115425Z
LAST-MODIFIED:20260102T103347Z
UID:10005210-1772712000-1772715600@newcastlecathedral.org.uk
SUMMARY:Mothers’ Union Monthly Midday Prayers and Eucharist
DESCRIPTION:2026 is a landmark anniversary year for Mothers’ Union\, the global Christian movement that has supported families and strengthened communities in the UK and around the world for 150 years. With four million members across 84 countries\, Mothers’ Union serves people of all faiths and backgrounds through practical action\, prayer\, and advocacy. \nThe Diocese of Newcastle was among the first to welcome Mothers’ Union shortly after its own founding in 1882. Emily Wilberforce\, wife of Newcastle’s first Bishop\, became the inaugural MU President. In more recent years\, MU Presidents in the diocese have also held the honorary role of Lay Canon at the Cathedral. \nMembers gather on the first Thursday of each month for Midday Prayers in St George’s Chapel at the Cathedral and are warmly invited to stay for the 12:30pm Eucharist. Before or after the service\, the group meets at Café 16 in the Cathedral refectory for fellowship and conversation. \nIf you would like to join them or find out more\, please contact the Revd Anne Marr\, Chaplain to the Mothers’ Union in Newcastle Diocese\, at chaplain@munewcastle.org.uk \n \nRead all about Mothers’ Union Newcastle’s 150th anniversary celebrations here. \n 
URL:https://newcastlecathedral.org.uk/event/mothers-union-monthly-midday-prayers/2026-03-05/
LOCATION:Newcastle Cathedral\, St Nicholas Square\, Newcastle upon Tyne\, NE1 1PF\, United Kingdom\, Newcastle\, Tyne & Wear\, NE1 1PF\, United Kingdom
CATEGORIES:Services
ATTACH;FMTTYPE=image/jpeg:https://newcastlecathedral.org.uk/wp-content/uploads/2025/04/Mothers-Union-banner-of-pelican-feeding-her-young.jpg
ORGANIZER;CN="Mothers' Union (Diocese of Newcastle)":MAILTO:chaplain@munewcastle.org.uk
END:VEVENT
BEGIN:VEVENT
DTSTART;TZID=Europe/London:20260315T100000
DTEND;TZID=Europe/London:20260315T111500
DTSTAMP:20260421T094042
CREATED:20250106T155408Z
LAST-MODIFIED:20260311T115153Z
UID:10004441-1773568800-1773573300@newcastlecathedral.org.uk
SUMMARY:All Age Sung Eucharist on Mothering Sunday
DESCRIPTION:Join us for a joyful and inclusive celebration this Mothering Sunday\, bringing together worshippers and choir members of all ages. Traditionally\, people would visit their home\, or ‘mother’\, churches on this day. Today\, it serves as a wonderful reminder that we can all care for and support one another. \nThis service will include music from some of our youngest singers. \nThis year\, the beautiful posies to be distributed at the end of the service have been lovingly crafted by the Cathedral community\, guided by Vahid\, a member of our congregation. \nThis service will also be live-streamed via our YouTube channel (see below). \n \nClick here for our weekly Services & Music schedule. \nAll services are FREE to attend\, with no pre-booking required.
URL:https://newcastlecathedral.org.uk/event/all-age-sung-eucharist-on-mothering-sunday/
LOCATION:Newcastle Cathedral\, St Nicholas Square\, Newcastle upon Tyne\, NE1 1PF\, United Kingdom\, Newcastle\, Tyne & Wear\, NE1 1PF\, United Kingdom
CATEGORIES:Services,Music (Cathedral)
ATTACH;FMTTYPE=image/jpeg:https://newcastlecathedral.org.uk/wp-content/uploads/2023/03/Mary-and-Child-Medieval-Roundel.jpg
END:VEVENT
BEGIN:VEVENT
DTSTART;TZID=Europe/London:20260323T120000
DTEND;TZID=Europe/London:20260323T122500
DTSTAMP:20260421T094042
CREATED:20250429T161734Z
LAST-MODIFIED:20260112T113339Z
UID:10005234-1774267200-1774268700@newcastlecathedral.org.uk
SUMMARY:Franciscan Prayers for World Peace
DESCRIPTION:On the fourth Monday of every month\, local members of the Third Order of the Society of St Francis pray silently for peace in the Chapel of the Ascension. They then participate in the 12:30pm Eucharist and invite all who are there to have lunch together afterwards at Café 16 in the Cathedral refectory. \nEveryone is welcome to join both the prayers and the Eucharist. \nAbout the Third Order of the Society of St Francis: \nThe Third Order is a worldwide Anglican Franciscan religious order for people over the age of 18\, including both lay and ordained members\, married and single individuals\, and those of various ages and ethnic backgrounds. Members commit themselves to leading their lives according to a Rule of Life while living in their own homes\, working in the community and caring for their families. There are approximately 3\,000 members worldwide\, with 1\,700 based in Europe. \nThe aims of the Order are to make our Lord Jesus Christ known and loved everywhere\, to spread the spirit of love and harmony\, and to live simply. \nThe Order welcomes enquiries from people who are interested in joining. Please contact janepenn11@gmail.com.
URL:https://newcastlecathedral.org.uk/event/franciscan-prayers-for-world-peace/2026-03-23/
LOCATION:Newcastle Cathedral\, St Nicholas Square\, Newcastle upon Tyne\, NE1 1PF\, United Kingdom\, Newcastle\, Tyne & Wear\, NE1 1PF\, United Kingdom
CATEGORIES:Services
ATTACH;FMTTYPE=image/jpeg:https://newcastlecathedral.org.uk/wp-content/uploads/2025/04/Detail-from-the-Ascension-Window.jpg
END:VEVENT
BEGIN:VEVENT
DTSTART;TZID=Europe/London:20260325T180000
DTEND;TZID=Europe/London:20260325T190000
DTSTAMP:20260421T094042
CREATED:20260112T135636Z
LAST-MODIFIED:20260325T095407Z
UID:10005243-1774461600-1774465200@newcastlecathedral.org.uk
SUMMARY:Choral Eucharist – The Annunciation of Our Lord to the Blessed Virgin Mary
DESCRIPTION:Join us for a service of Choral Eucharist as we celebrate the Feast of the Annunciation\, commemorating the visit to the Virgin Mary by the angel Gabriel\, who announced the miraculous conception of Jesus Christ. \nThis service will also be live-streamed via our YouTube channel (see below). \n \nClick here to read and follow along with the Order of Service (PDF). \nAll services are FREE to attend\, with no pre-booking required.
URL:https://newcastlecathedral.org.uk/event/choral-eucharist-the-annunciation-of-our-lord-to-the-blessed-virgin-mary/
LOCATION:Newcastle Cathedral\, St Nicholas Square\, Newcastle upon Tyne\, NE1 1PF\, United Kingdom\, Newcastle\, Tyne & Wear\, NE1 1PF\, United Kingdom
CATEGORIES:Services,Music (Cathedral)
ATTACH;FMTTYPE=image/jpeg:https://newcastlecathedral.org.uk/wp-content/uploads/2024/03/The-Annunciation-depicted-in-the-Chapel-of-the-Resurrection.jpg
END:VEVENT
BEGIN:VEVENT
DTSTART;TZID=Europe/London:20260329T100000
DTEND;TZID=Europe/London:20260329T111500
DTSTAMP:20260421T094042
CREATED:20240117T161539Z
LAST-MODIFIED:20260325T171930Z
UID:10003720-1774778400-1774782900@newcastlecathedral.org.uk
SUMMARY:The Liturgy of Palm Sunday
DESCRIPTION:Palm Sunday marks the start of Holy Week. Come and remember how the crowds welcomed Jesus into Jerusalem\, shouting ‘Hosanna!’ and laying palm branches at his feet. \nThis year\, we will begin with the Liturgy of the Palms in St Nicholas Square. Please arrive in good time to collect a Palm Cross and join us outside for a prompt 10am start. The service will then continue inside the Cathedral. \nThe indoor elements of this service will be live-streamed via our YouTube channel. \nThis service will be live-streamed via our YouTube channel (see below). \n \nClick here to read and follow along with the Order of Service (PDF). \nAll services are FREE to attend\, with no pre-booking required.
URL:https://newcastlecathedral.org.uk/event/morning-service-with-liturgy-of-the-palms/
LOCATION:Newcastle Cathedral\, St Nicholas Square\, Newcastle upon Tyne\, NE1 1PF\, United Kingdom\, Newcastle\, Tyne & Wear\, NE1 1PF\, United Kingdom
CATEGORIES:Services,Music (Cathedral),Lent, Holy Week & Easter
ATTACH;FMTTYPE=image/jpeg:https://newcastlecathedral.org.uk/wp-content/uploads/2023/02/Palm-Sunday.jpg
END:VEVENT
BEGIN:VEVENT
DTSTART;TZID=Europe/London:20260330T190000
DTEND;TZID=Europe/London:20260330T193000
DTSTAMP:20260421T094042
CREATED:20260130T131134Z
LAST-MODIFIED:20260330T153457Z
UID:10005269-1774897200-1774899000@newcastlecathedral.org.uk
SUMMARY:Holy Week Evening Service
DESCRIPTION:Join us for a short reflective service incorporating Taizé music and incense on Monday 30 and Tuesday 31 March\, and Wednesday 1 April as we journey through Holy Week. \nPlease note: Newcastle Cathedral Choir will sing at Choral Evensong on Wednesday 1 April at the earlier time of 3 pm. The service will be broadcast live on BBC Radio 3. See below for further details. \nClick here for our weekly Services & Music schedule. \nAll services are FREE to attend\, with no pre-booking required. \nChoral Evensong BBC Radio 3 Live Broadcast
URL:https://newcastlecathedral.org.uk/event/holy-week-evening-service/2026-03-30/
LOCATION:Newcastle Cathedral\, St Nicholas Square\, Newcastle upon Tyne\, NE1 1PF\, United Kingdom\, Newcastle\, Tyne & Wear\, NE1 1PF\, United Kingdom
CATEGORIES:Services,Lent, Holy Week & Easter
ATTACH;FMTTYPE=image/jpeg:https://newcastlecathedral.org.uk/wp-content/uploads/2022/10/Candles-and-the-Danish-Memorial-Window-scaled-e1729858801658.jpeg
END:VEVENT
BEGIN:VEVENT
DTSTART;TZID=Europe/London:20260331T190000
DTEND;TZID=Europe/London:20260331T193000
DTSTAMP:20260421T094042
CREATED:20260130T131134Z
LAST-MODIFIED:20260330T153457Z
UID:10005270-1774983600-1774985400@newcastlecathedral.org.uk
SUMMARY:Holy Week Evening Service
DESCRIPTION:Join us for a short reflective service incorporating Taizé music and incense on Monday 30 and Tuesday 31 March\, and Wednesday 1 April as we journey through Holy Week. \nPlease note: Newcastle Cathedral Choir will sing at Choral Evensong on Wednesday 1 April at the earlier time of 3 pm. The service will be broadcast live on BBC Radio 3. See below for further details. \nClick here for our weekly Services & Music schedule. \nAll services are FREE to attend\, with no pre-booking required. \nChoral Evensong BBC Radio 3 Live Broadcast
URL:https://newcastlecathedral.org.uk/event/holy-week-evening-service/2026-03-31/
LOCATION:Newcastle Cathedral\, St Nicholas Square\, Newcastle upon Tyne\, NE1 1PF\, United Kingdom\, Newcastle\, Tyne & Wear\, NE1 1PF\, United Kingdom
CATEGORIES:Services,Lent, Holy Week & Easter
ATTACH;FMTTYPE=image/jpeg:https://newcastlecathedral.org.uk/wp-content/uploads/2022/10/Candles-and-the-Danish-Memorial-Window-scaled-e1729858801658.jpeg
END:VEVENT
END:VCALENDAR