BEGIN:VCALENDAR
VERSION:2.0
PRODID:-//Newcastle Cathedral - ECPv6.15.20//NONSGML v1.0//EN
CALSCALE:GREGORIAN
METHOD:PUBLISH
X-ORIGINAL-URL:https://newcastlecathedral.org.uk
X-WR-CALDESC:Events for Newcastle Cathedral
REFRESH-INTERVAL;VALUE=DURATION:PT1H
X-Robots-Tag:noindex
X-PUBLISHED-TTL:PT1H
BEGIN:VTIMEZONE
TZID:Europe/London
BEGIN:DAYLIGHT
TZOFFSETFROM:+0000
TZOFFSETTO:+0100
TZNAME:BST
DTSTART:20250330T010000
END:DAYLIGHT
BEGIN:STANDARD
TZOFFSETFROM:+0100
TZOFFSETTO:+0000
TZNAME:GMT
DTSTART:20251026T010000
END:STANDARD
BEGIN:DAYLIGHT
TZOFFSETFROM:+0000
TZOFFSETTO:+0100
TZNAME:BST
DTSTART:20260329T010000
END:DAYLIGHT
BEGIN:STANDARD
TZOFFSETFROM:+0100
TZOFFSETTO:+0000
TZNAME:GMT
DTSTART:20261025T010000
END:STANDARD
BEGIN:DAYLIGHT
TZOFFSETFROM:+0000
TZOFFSETTO:+0100
TZNAME:BST
DTSTART:20270328T010000
END:DAYLIGHT
BEGIN:STANDARD
TZOFFSETFROM:+0100
TZOFFSETTO:+0000
TZNAME:GMT
DTSTART:20271031T010000
END:STANDARD
END:VTIMEZONE
BEGIN:VEVENT
DTSTART;TZID=Europe/London:20260607T100000
DTEND;TZID=Europe/London:20260607T111500
DTSTAMP:20260423T112251
CREATED:20260406T142327Z
LAST-MODIFIED:20260415T153445Z
UID:10005339-1780826400-1780830900@newcastlecathedral.org.uk
SUMMARY:Confirmation Service
DESCRIPTION:Confirmation marks the point in the Christian journey at which you affirm for yourself the faith into which you have been baptised and your intention to live a life of faith. This affirmation is confirmed through prayer and the laying on of hands on the head\, by the confirming bishop\, as the Church asks God to give you power through the Holy Spirit to help you to live in the way of Jesus. \nIf you or someone you know is interested in being confirmed\, please get in touch with Ruth Hulse\, our Canon for Worship & Congregational Life\, who would be very pleased to speak with you. \nIf you haven’t been baptised\, don’t worry! Baptism can take place at the same time\, or beforehand.
URL:https://newcastlecathedral.org.uk/event/confirmation-service/
LOCATION:Newcastle Cathedral\, St Nicholas Square\, Newcastle upon Tyne\, NE1 1PF\, United Kingdom\, Newcastle\, Tyne & Wear\, NE1 1PF\, United Kingdom
CATEGORIES:Services
ATTACH;FMTTYPE=image/jpeg:https://newcastlecathedral.org.uk/wp-content/uploads/2025/01/The-Cathedral-font-bowl.jpg
ORGANIZER;CN="Newcastle Cathedral":MAILTO:office@newcastlecathedral.org.uk
END:VEVENT
END:VCALENDAR