BEGIN:VCALENDAR
VERSION:2.0
PRODID:-//Newcastle Cathedral - ECPv6.15.20//NONSGML v1.0//EN
CALSCALE:GREGORIAN
METHOD:PUBLISH
X-WR-CALNAME:Newcastle Cathedral
X-ORIGINAL-URL:https://newcastlecathedral.org.uk
X-WR-CALDESC:Events for Newcastle Cathedral
REFRESH-INTERVAL;VALUE=DURATION:PT1H
X-Robots-Tag:noindex
X-PUBLISHED-TTL:PT1H
BEGIN:VTIMEZONE
TZID:Europe/London
BEGIN:DAYLIGHT
TZOFFSETFROM:+0000
TZOFFSETTO:+0100
TZNAME:BST
DTSTART:20250330T010000
END:DAYLIGHT
BEGIN:STANDARD
TZOFFSETFROM:+0100
TZOFFSETTO:+0000
TZNAME:GMT
DTSTART:20251026T010000
END:STANDARD
BEGIN:DAYLIGHT
TZOFFSETFROM:+0000
TZOFFSETTO:+0100
TZNAME:BST
DTSTART:20260329T010000
END:DAYLIGHT
BEGIN:STANDARD
TZOFFSETFROM:+0100
TZOFFSETTO:+0000
TZNAME:GMT
DTSTART:20261025T010000
END:STANDARD
BEGIN:DAYLIGHT
TZOFFSETFROM:+0000
TZOFFSETTO:+0100
TZNAME:BST
DTSTART:20270328T010000
END:DAYLIGHT
BEGIN:STANDARD
TZOFFSETFROM:+0100
TZOFFSETTO:+0000
TZNAME:GMT
DTSTART:20271031T010000
END:STANDARD
END:VTIMEZONE
BEGIN:VEVENT
DTSTART;TZID=Europe/London:20260118T160000
DTEND;TZID=Europe/London:20260118T170000
DTSTAMP:20260425T143801
CREATED:20251205T101412Z
LAST-MODIFIED:20260116T114527Z
UID:10005007-1768752000-1768755600@newcastlecathedral.org.uk
SUMMARY:Carol Procession for the Season of Epiphany
DESCRIPTION:If you enjoy attending our Advent Procession of Light in December\, don’t miss this special Epiphany Procession featuring the beautiful voices of Newcastle Cathedral Choir. \nThe Season of Epiphany began with the visit of the Magi (Wise Men) to the newborn Jesus and concludes with our celebration of Candlemas on Monday 2 February. \nThis service will begin by recalling the journey of the Wise Men\, or ‘Magi’\, who came “from the East”. The Choir and Clergy will process from the Cathedral’s East End into the Nave\, ending at the Font. \nThis service will also be live-streamed via our YouTube channel (see below). \n \nClick here to read and follow along with the Order of Service (PDF). \nAll services are free to attend with no pre-booking required.
URL:https://newcastlecathedral.org.uk/event/carol-procession-for-the-season-of-epiphany/
LOCATION:Newcastle Cathedral\, St Nicholas Square\, Newcastle upon Tyne\, NE1 1PF\, United Kingdom\, Newcastle\, Tyne & Wear\, NE1 1PF\, United Kingdom
CATEGORIES:Services,Music (Cathedral)
ATTACH;FMTTYPE=image/jpeg:https://newcastlecathedral.org.uk/wp-content/uploads/2025/12/Epiphany-Procession.jpg
END:VEVENT
END:VCALENDAR