BEGIN:VCALENDAR
VERSION:2.0
PRODID:-//Newcastle Cathedral - ECPv6.15.20//NONSGML v1.0//EN
CALSCALE:GREGORIAN
METHOD:PUBLISH
X-ORIGINAL-URL:https://newcastlecathedral.org.uk
X-WR-CALDESC:Events for Newcastle Cathedral
REFRESH-INTERVAL;VALUE=DURATION:PT1H
X-Robots-Tag:noindex
X-PUBLISHED-TTL:PT1H
BEGIN:VTIMEZONE
TZID:Europe/London
BEGIN:DAYLIGHT
TZOFFSETFROM:+0000
TZOFFSETTO:+0100
TZNAME:BST
DTSTART:20250330T010000
END:DAYLIGHT
BEGIN:STANDARD
TZOFFSETFROM:+0100
TZOFFSETTO:+0000
TZNAME:GMT
DTSTART:20251026T010000
END:STANDARD
BEGIN:DAYLIGHT
TZOFFSETFROM:+0000
TZOFFSETTO:+0100
TZNAME:BST
DTSTART:20260329T010000
END:DAYLIGHT
BEGIN:STANDARD
TZOFFSETFROM:+0100
TZOFFSETTO:+0000
TZNAME:GMT
DTSTART:20261025T010000
END:STANDARD
BEGIN:DAYLIGHT
TZOFFSETFROM:+0000
TZOFFSETTO:+0100
TZNAME:BST
DTSTART:20270328T010000
END:DAYLIGHT
BEGIN:STANDARD
TZOFFSETFROM:+0100
TZOFFSETTO:+0000
TZNAME:GMT
DTSTART:20271031T010000
END:STANDARD
END:VTIMEZONE
BEGIN:VEVENT
DTSTART;TZID=Europe/London:20260218T123000
DTEND;TZID=Europe/London:20260218T131500
DTSTAMP:20260423T095533
CREATED:20250219T142959Z
LAST-MODIFIED:20260127T101257Z
UID:10004508-1771417800-1771420500@newcastlecathedral.org.uk
SUMMARY:Ash Wednesday Lunchtime Eucharist with the Imposition of Ashes
DESCRIPTION:All are welcome to attend our short lunchtime Eucharist on Ash Wednesday. \nAs part of the service\, you are invited to receive the sign of the cross in ashes on your forehead\, a powerful symbol of humility and renewal. \nClick here for our weekly Services & Music schedule. \nAll services are FREE to attend\, with no pre-booking required.
URL:https://newcastlecathedral.org.uk/event/ash-wednesday-lunchtime/
LOCATION:Newcastle Cathedral\, St Nicholas Square\, Newcastle upon Tyne\, NE1 1PF\, United Kingdom\, Newcastle\, Tyne & Wear\, NE1 1PF\, United Kingdom
CATEGORIES:Services,Lent, Holy Week & Easter
ATTACH;FMTTYPE=image/jpeg:https://newcastlecathedral.org.uk/wp-content/uploads/2023/05/Communion-Chalice-at-Newcastle-Cathedral.jpg
END:VEVENT
BEGIN:VEVENT
DTSTART;TZID=Europe/London:20260218T180000
DTEND;TZID=Europe/London:20260218T190000
DTSTAMP:20260423T095533
CREATED:20240108T161450Z
LAST-MODIFIED:20260216T100503Z
UID:10003716-1771437600-1771441200@newcastlecathedral.org.uk
SUMMARY:Ash Wednesday Sung Eucharist with the Imposition of Ashes
DESCRIPTION:Join us for a special service to begin the season of Lent – an opportunity for reflection and repentance\, and to prepare our hearts for the coming of Easter. \nAs part of the service\, you are invited to receive the sign of the cross in ashes on your forehead\, a powerful symbol of humility and renewal. \nThis service will also be live-streamed via our YouTube channel (see below). \n \nRead and follow along with the Order of Service (PDF). \nClick here for our weekly Services & Music schedule. \nAll services are FREE to attend\, with no pre-booking required.
URL:https://newcastlecathedral.org.uk/event/ash-wednesday-sung-eucharist-with-the-imposition-of-ashes/
LOCATION:Newcastle Cathedral\, St Nicholas Square\, Newcastle upon Tyne\, NE1 1PF\, United Kingdom\, Newcastle\, Tyne & Wear\, NE1 1PF\, United Kingdom
CATEGORIES:Services,Music (Cathedral),Lent, Holy Week & Easter
ATTACH;FMTTYPE=image/jpeg:https://newcastlecathedral.org.uk/wp-content/uploads/2024/01/Priest_preparing_palm_crosses_to_burn_for_Ash_Wednesday-scaled-e1768399357764.jpg
END:VEVENT
BEGIN:VEVENT
DTSTART;TZID=Europe/London:20260222T160000
DTEND;TZID=Europe/London:20260222T170000
DTSTAMP:20260423T095533
CREATED:20260120T163433Z
LAST-MODIFIED:20260120T163643Z
UID:10005256-1771776000-1771779600@newcastlecathedral.org.uk
SUMMARY:Choral Evensong with a Visiting Choir: Newcastle University Chamber Choir
DESCRIPTION:While our Cathedral Choirs enjoy a well-earned break\, we are delighted to welcome visiting choirs to lead our worship. \nJoin Newcastle University Chamber Choir for Choral Evensong during the reflective season of Lent – a service of stillness\, prayer\, and beautiful sacred choral music\, featuring works by Stanford\, Howells\, and Elgar. \n— \nWe warmly welcome enquiries from choirs interested in performing at Newcastle Cathedral during choir holidays. If your ensemble is of a high standard and experienced in the Church of England liturgy\, please get in touch at music@newcastlecathedral.org.uk \nThis service will also be live-streamed via our YouTube channel. \nClick here for our current Services & Music schedule. \nPhoto: The Quire at Newcastle Cathedral\, © Graeme Peacock.
URL:https://newcastlecathedral.org.uk/event/choral-evensong-with-newcastle-university-chamber-choir/
LOCATION:Newcastle Cathedral\, St Nicholas Square\, Newcastle upon Tyne\, NE1 1PF\, United Kingdom\, Newcastle\, Tyne & Wear\, NE1 1PF\, United Kingdom
CATEGORIES:Services,Music (Cathedral)
ATTACH;FMTTYPE=image/jpeg:https://newcastlecathedral.org.uk/wp-content/uploads/2025/07/The-Cathedral-Quire-c-Graeme-Peacock.jpg
ORGANIZER;CN="Newcastle Cathedral":MAILTO:office@newcastlecathedral.org.uk
END:VEVENT
END:VCALENDAR