BEGIN:VCALENDAR
VERSION:2.0
PRODID:-//Newcastle Cathedral - ECPv6.15.20//NONSGML v1.0//EN
CALSCALE:GREGORIAN
METHOD:PUBLISH
X-ORIGINAL-URL:https://newcastlecathedral.org.uk
X-WR-CALDESC:Events for Newcastle Cathedral
REFRESH-INTERVAL;VALUE=DURATION:PT1H
X-Robots-Tag:noindex
X-PUBLISHED-TTL:PT1H
BEGIN:VTIMEZONE
TZID:Europe/London
BEGIN:DAYLIGHT
TZOFFSETFROM:+0000
TZOFFSETTO:+0100
TZNAME:BST
DTSTART:20250330T010000
END:DAYLIGHT
BEGIN:STANDARD
TZOFFSETFROM:+0100
TZOFFSETTO:+0000
TZNAME:GMT
DTSTART:20251026T010000
END:STANDARD
BEGIN:DAYLIGHT
TZOFFSETFROM:+0000
TZOFFSETTO:+0100
TZNAME:BST
DTSTART:20260329T010000
END:DAYLIGHT
BEGIN:STANDARD
TZOFFSETFROM:+0100
TZOFFSETTO:+0000
TZNAME:GMT
DTSTART:20261025T010000
END:STANDARD
BEGIN:DAYLIGHT
TZOFFSETFROM:+0000
TZOFFSETTO:+0100
TZNAME:BST
DTSTART:20270328T010000
END:DAYLIGHT
BEGIN:STANDARD
TZOFFSETFROM:+0100
TZOFFSETTO:+0000
TZNAME:GMT
DTSTART:20271031T010000
END:STANDARD
END:VTIMEZONE
BEGIN:VEVENT
DTSTART;TZID=Europe/London:20260524T100000
DTEND;TZID=Europe/London:20260524T111500
DTSTAMP:20260423T095533
CREATED:20240328T155706Z
LAST-MODIFIED:20260407T103222Z
UID:10003773-1779616800-1779621300@newcastlecathedral.org.uk
SUMMARY:Sung Eucharist for the Feast of Pentecost
DESCRIPTION:The Day of Pentecost comes fifty days after Easter Day and brings the Easter season to its joyful climax. \nA major feast in the Church’s year\, Pentecost recalls the gift of the Holy Spirit to the disciples\, as told in the Acts of the Apostles. Filled with the Spirit\, they were able to proclaim the good news of God’s love in many different languages to the crowds gathered in Jerusalem. For this reason\, Pentecost is often called the “birthday” of the Church. \nImage: A carving of the Holy Spirit in the form of a dove\, soaring above the Cathedral’s medieval font canopy. \nThis service will be live-streamed via our YouTube channel. \nClick here to access our current Services & Music schedule. \nAll services are free to attend\, with no pre-booking required.
URL:https://newcastlecathedral.org.uk/event/sung-eucharist-for-the-feast-of-pentecost/
LOCATION:Newcastle Cathedral\, St Nicholas Square\, Newcastle upon Tyne\, NE1 1PF\, United Kingdom\, Newcastle\, Tyne & Wear\, NE1 1PF\, United Kingdom
CATEGORIES:Services,Music (Cathedral)
ATTACH;FMTTYPE=image/jpeg:https://newcastlecathedral.org.uk/wp-content/uploads/2021/04/Beautiful-Birds.jpg
END:VEVENT
END:VCALENDAR