BEGIN:VCALENDAR
VERSION:2.0
PRODID:-//Newcastle Cathedral - ECPv6.15.20//NONSGML v1.0//EN
CALSCALE:GREGORIAN
METHOD:PUBLISH
X-ORIGINAL-URL:https://newcastlecathedral.org.uk
X-WR-CALDESC:Events for Newcastle Cathedral
REFRESH-INTERVAL;VALUE=DURATION:PT1H
X-Robots-Tag:noindex
X-PUBLISHED-TTL:PT1H
BEGIN:VTIMEZONE
TZID:Europe/London
BEGIN:DAYLIGHT
TZOFFSETFROM:+0000
TZOFFSETTO:+0100
TZNAME:BST
DTSTART:20240331T010000
END:DAYLIGHT
BEGIN:STANDARD
TZOFFSETFROM:+0100
TZOFFSETTO:+0000
TZNAME:GMT
DTSTART:20241027T010000
END:STANDARD
BEGIN:DAYLIGHT
TZOFFSETFROM:+0000
TZOFFSETTO:+0100
TZNAME:BST
DTSTART:20250330T010000
END:DAYLIGHT
BEGIN:STANDARD
TZOFFSETFROM:+0100
TZOFFSETTO:+0000
TZNAME:GMT
DTSTART:20251026T010000
END:STANDARD
BEGIN:DAYLIGHT
TZOFFSETFROM:+0000
TZOFFSETTO:+0100
TZNAME:BST
DTSTART:20260329T010000
END:DAYLIGHT
BEGIN:STANDARD
TZOFFSETFROM:+0100
TZOFFSETTO:+0000
TZNAME:GMT
DTSTART:20261025T010000
END:STANDARD
END:VTIMEZONE
BEGIN:VEVENT
DTSTART;VALUE=DATE:20250602
DTEND;VALUE=DATE:20250729
DTSTAMP:20260424T165251
CREATED:20240510T131402Z
LAST-MODIFIED:20250602T143919Z
UID:10003831-1748822400-1753747199@newcastlecathedral.org.uk
SUMMARY:We Depend on Our Words - Pride Exhibition
DESCRIPTION:“What is it that we human beings ultimately depend on? We depend on our words. We are suspended in language. Our task is to communicate experience and ideas to others.”– Niels Bohr\, Nobel Prize Winner \nPride Month\, celebrated each June\, is a vibrant and inclusive time to honour the LGBTQI+ community – their history\, achievements\, and continued journey toward equality. \nAt Newcastle Cathedral\, we celebrate the significance of the Pride movement and its lasting impact on our shared cultural and social fabric. Our returning exhibition\, running throughout the summer and beyond Newcastle Pride weekend (Saturday 19 and Sunday 20 July\, presented by Northern Pride)\, explores the deep connection between language and identity. \nAs part of the Pride Fringe programme\, we’re thrilled to welcome Northern Proud Voices – the North East’s largest and longest-running LGBTQI+ community choir – for an uplifting evening of pop and rock favourites. \nJoin us on Friday 4 July at 7pm for a joyful celebration of music and community. Click below to find out more. \nNorthern Proud Voices Cathedral Concert 2025
URL:https://newcastlecathedral.org.uk/event/we-depend-on-our-words-pride-month-exhibition/
LOCATION:Newcastle Cathedral\, St Nicholas Square\, Newcastle upon Tyne\, NE1 1PF\, United Kingdom\, Newcastle\, Tyne & Wear\, NE1 1PF\, United Kingdom
CATEGORIES:Art & Exhibitions
ATTACH;FMTTYPE=image/jpeg:https://newcastlecathedral.org.uk/wp-content/uploads/2023/05/We-Depend-on-Our-Word-Exhibition-banner-Photo-by-Nicholas-Farka-Red-and-Round-Photography.jpg
END:VEVENT
BEGIN:VEVENT
DTSTART;TZID=Europe/London:20250605T140000
DTEND;TZID=Europe/London:20250605T150000
DTSTAMP:20260424T165251
CREATED:20240625T154500Z
LAST-MODIFIED:20250523T102101Z
UID:10003835-1749132000-1749135600@newcastlecathedral.org.uk
SUMMARY:Volunteers' Week Celebration Service 2025
DESCRIPTION:Join us to celebrate the vibrant volunteer community at the heart of the city of Newcastle\, the Diocese\, and the wider region. \nThis informal service led in partnership with Connected Voice and Volunteer Centre Newcastle\, will recognise the fantastic contribution volunteers make across the North East and is open to people of all faiths and none. \n\nIf you wish to attend by yourself or with a group\, please register via TicketSource. This will help Newcastle Cathedral staff and clergy know how many people to expect for seating and refreshments. \nClick here to learn about the Volunteer Recruitment Fair on Tuesday 3 June. \nIf you have any questions about this service or would like to volunteer at Newcastle Cathedral\, please email vanessa.ward@newcastlecathedral.org.uk.
URL:https://newcastlecathedral.org.uk/event/volunteers-week-celebration-service-2025/
LOCATION:Newcastle Cathedral\, St Nicholas Square\, Newcastle upon Tyne\, NE1 1PF\, United Kingdom\, Newcastle\, Tyne & Wear\, NE1 1PF\, United Kingdom
CATEGORIES:Services,Other
ATTACH;FMTTYPE=image/jpeg:https://newcastlecathedral.org.uk/wp-content/uploads/2024/06/Vounteer-Week-service.jpg
END:VEVENT
BEGIN:VEVENT
DTSTART;TZID=Europe/London:20250606T190000
DTEND;TZID=Europe/London:20250606T213000
DTSTAMP:20260424T165251
CREATED:20241218T161727Z
LAST-MODIFIED:20250429T104857Z
UID:10004370-1749236400-1749245400@newcastlecathedral.org.uk
SUMMARY:The Music of Taylor Swift By Candlelight – Concerts by Candlelight
DESCRIPTION:Calling all Swifties – it’s time to ‘Shake It Off’!  \nExperience The Music of Taylor Swift by Candlelight\, an evening that will bring your ‘Wildest Dreams’ to life. Immerse yourself in Taylor’s greatest hits performed by a ‘Fearless’ live band\, all in the glow of a breathtaking candlelit setting. \nFrom Cruel Summer to Blank Space and All Too Well\, each iconic song is reimagined with a captivating energy that truly ‘Hits Different.’ \nPlease note: \n\nAn external organisation hosts this concert\, and booking fees may apply.\nTicket queries should be directed via the Concerts by Candlelight website.\nAccess tickets (including a free carer ticket) are available for this event.\nDrinks will be available from a fully-stocked bar in the Cathedral Refectory before the show and during an interval.\n\nEvents such as ‘The Music of Taylor Swift By Candlelight’ help raise funds to maintain this beautiful building\, continue our charitable work and keep our doors open for all.
URL:https://newcastlecathedral.org.uk/event/the-music-of-taylor-swift-by-candlelight-concerts-by-candlelight/
LOCATION:Newcastle Cathedral\, St Nicholas Square\, Newcastle upon Tyne\, NE1 1PF\, United Kingdom\, Newcastle\, Tyne & Wear\, NE1 1PF\, United Kingdom
CATEGORIES:Guest Concerts
ATTACH;FMTTYPE=image/jpeg:https://newcastlecathedral.org.uk/wp-content/uploads/2024/12/Taylor-Swift-by-Candlelight-1.jpg
ORGANIZER;CN="Kinda Dusty Ltd.":MAILTO:boxoffice@kindadusty.co.uk
END:VEVENT
BEGIN:VEVENT
DTSTART;TZID=Europe/London:20250607T110000
DTEND;TZID=Europe/London:20250607T114500
DTSTAMP:20260424T165251
CREATED:20250507T122556Z
LAST-MODIFIED:20250724T130949Z
UID:10004712-1749294000-1749296700@newcastlecathedral.org.uk
SUMMARY:Newcastle Cathedral Churchyard Tours
DESCRIPTION:Join a churchyard tour starting in St Nicholas Square. Was Queen Victoria truly unamused by her visits to Newcastle? Why does a ‘Vampire Rabbit’ overlook the Cathedral? Uncover these mysteries and learn about the lives of those buried here. \nThis tour is fully accessible for wheelchair users and follows a circular route\, starting and ending at the statue of Queen Victoria in St Nicholas Square\, NE1 1PF. \nThese tours are FREE to attend\, with a suggested donation of £7 per person. Your support helps us maintain the Cathedral\, continue our charitable work\, and keep the doors open for all. \nPre-booking is not compulsory; however\, please be aware that each tour has limited spaces available.  \nPlease note: In the event of bad weather\, an indoor History Tour may be offered as an alternative\, subject to the availability of indoor space on the day.
URL:https://newcastlecathedral.org.uk/event/newcastle-cathedral-churchyard-tours/2025-06-07/
LOCATION:Queen Victoria Statue\, St Nicholas Square\, Newcastle upon Tyne\, Tyne & Wear\, NE1 1PF\, United Kingdom
CATEGORIES:Talks & Tours
ATTACH;FMTTYPE=image/jpeg:https://newcastlecathedral.org.uk/wp-content/uploads/2025/05/Churchyard-Railings-with-Gothic-red-lettering.jpg
ORGANIZER;CN="Newcastle Cathedral via TicketSource":MAILTO:office@newcastlecathedral.org.uk
END:VEVENT
BEGIN:VEVENT
DTSTART;TZID=Europe/London:20250608T180000
DTEND;TZID=Europe/London:20250608T193000
DTSTAMP:20260424T165251
CREATED:20250507T082714Z
LAST-MODIFIED:20250602T073941Z
UID:10004581-1749405600-1749411000@newcastlecathedral.org.uk
SUMMARY:NOW AT ST THOMAS’: Thy Kingdom Come: Prayer Event with St Thomas' Newcastle
DESCRIPTION:Please note: This event\, which was previously advertised as taking at Newcastle Cathedral\, will now take place at St Thomas’ Newcastle at 6:30pm. Please see their website for current information. \nThy Kingdom Come (TKC) is a global ecumenical prayer movement that invites Christians around the world to pray from Ascension to Pentecost for more people to come to know Jesus. \nThis year\, we’re very excited to be celebrating the 10th year of Thy Kingdom Come with the team from St Thomas’ Newcastle. \nVisit the St Thomas’ Newcastle website for updates and information. \n  \n         
URL:https://newcastlecathedral.org.uk/event/thy-kingdom-come-prayer-event-with-st-thomas-newcastle/
LOCATION:Newcastle Cathedral\, St Nicholas Square\, Newcastle upon Tyne\, NE1 1PF\, United Kingdom\, Newcastle\, Tyne & Wear\, NE1 1PF\, United Kingdom
CATEGORIES:Services
ATTACH;FMTTYPE=image/jpeg:https://newcastlecathedral.org.uk/wp-content/uploads/2025/05/TKC_wide_simple-1.jpg
END:VEVENT
END:VCALENDAR