BEGIN:VCALENDAR
VERSION:2.0
PRODID:-//Newcastle Cathedral - ECPv6.15.20//NONSGML v1.0//EN
CALSCALE:GREGORIAN
METHOD:PUBLISH
X-ORIGINAL-URL:https://newcastlecathedral.org.uk
X-WR-CALDESC:Events for Newcastle Cathedral
REFRESH-INTERVAL;VALUE=DURATION:PT1H
X-Robots-Tag:noindex
X-PUBLISHED-TTL:PT1H
BEGIN:VTIMEZONE
TZID:Europe/London
BEGIN:DAYLIGHT
TZOFFSETFROM:+0000
TZOFFSETTO:+0100
TZNAME:BST
DTSTART:20240331T010000
END:DAYLIGHT
BEGIN:STANDARD
TZOFFSETFROM:+0100
TZOFFSETTO:+0000
TZNAME:GMT
DTSTART:20241027T010000
END:STANDARD
BEGIN:DAYLIGHT
TZOFFSETFROM:+0000
TZOFFSETTO:+0100
TZNAME:BST
DTSTART:20250330T010000
END:DAYLIGHT
BEGIN:STANDARD
TZOFFSETFROM:+0100
TZOFFSETTO:+0000
TZNAME:GMT
DTSTART:20251026T010000
END:STANDARD
BEGIN:DAYLIGHT
TZOFFSETFROM:+0000
TZOFFSETTO:+0100
TZNAME:BST
DTSTART:20260329T010000
END:DAYLIGHT
BEGIN:STANDARD
TZOFFSETFROM:+0100
TZOFFSETTO:+0000
TZNAME:GMT
DTSTART:20261025T010000
END:STANDARD
END:VTIMEZONE
BEGIN:VEVENT
DTSTART;TZID=Europe/London:20250620T193000
DTEND;TZID=Europe/London:20250620T193000
DTSTAMP:20260424T132438
CREATED:20250124T123523Z
LAST-MODIFIED:20250124T124041Z
UID:10004469-1750447800-1750447800@newcastlecathedral.org.uk
SUMMARY:Vivaldi’s Four Seasons - Royal Northern Sinfonia and Maria Włoszczowska
DESCRIPTION:Royal Northern Sinfonia and their Artistic Partner Maria Włoszczowska return to Newcastle Cathedral with the ultimate summer evening soundtrack. \nThree centuries after they were composed\, Antonio Vivaldi’s ‘The Four Seasons’ sounds as fresh and tuneful as ever – the birdsong of Spring\, the downpours of Summer\, the celebrations of Autumn\, and the icy shiver of Winter. \nAlso on the set list are lively\, dazzling dances by Sándor Veress\, Edvard Grieg and Nikos Skalkottas. \nPlease note: \n\nAn external organisation hosts this concert\, and booking fees may apply.\nTicket queries should be directed via The Glasshouse website.\nFor wheelchair/access bookings\, please visit The Glasshouse website for instructions on how to register to join their Access Scheme or phone the Box Office on 0191 443 4661.\n\nEvents like this help raise funds to maintain this beautiful cathedral\, continue our charitable work and keep our doors open for all.
URL:https://newcastlecathedral.org.uk/event/vivaldis-four-seasons/
LOCATION:Newcastle Cathedral\, St Nicholas Square\, Newcastle upon Tyne\, NE1 1PF\, United Kingdom\, Newcastle\, Tyne & Wear\, NE1 1PF\, United Kingdom
CATEGORIES:Guest Concerts
ATTACH;FMTTYPE=image/jpeg:https://newcastlecathedral.org.uk/wp-content/uploads/2025/01/Vivaldi-Four-Seasons-June-2025.jpg
ORGANIZER;CN="Royal Northern Sinfonia":MAILTO:boxoffice@theglasshouseicm.org
END:VEVENT
END:VCALENDAR