BEGIN:VCALENDAR
VERSION:2.0
PRODID:-//Newcastle Cathedral - ECPv6.15.20//NONSGML v1.0//EN
CALSCALE:GREGORIAN
METHOD:PUBLISH
X-ORIGINAL-URL:https://newcastlecathedral.org.uk
X-WR-CALDESC:Events for Newcastle Cathedral
REFRESH-INTERVAL;VALUE=DURATION:PT1H
X-Robots-Tag:noindex
X-PUBLISHED-TTL:PT1H
BEGIN:VTIMEZONE
TZID:Europe/London
BEGIN:DAYLIGHT
TZOFFSETFROM:+0000
TZOFFSETTO:+0100
TZNAME:BST
DTSTART:20240331T010000
END:DAYLIGHT
BEGIN:STANDARD
TZOFFSETFROM:+0100
TZOFFSETTO:+0000
TZNAME:GMT
DTSTART:20241027T010000
END:STANDARD
BEGIN:DAYLIGHT
TZOFFSETFROM:+0000
TZOFFSETTO:+0100
TZNAME:BST
DTSTART:20250330T010000
END:DAYLIGHT
BEGIN:STANDARD
TZOFFSETFROM:+0100
TZOFFSETTO:+0000
TZNAME:GMT
DTSTART:20251026T010000
END:STANDARD
BEGIN:DAYLIGHT
TZOFFSETFROM:+0000
TZOFFSETTO:+0100
TZNAME:BST
DTSTART:20260329T010000
END:DAYLIGHT
BEGIN:STANDARD
TZOFFSETFROM:+0100
TZOFFSETTO:+0000
TZNAME:GMT
DTSTART:20261025T010000
END:STANDARD
END:VTIMEZONE
BEGIN:VEVENT
DTSTART;TZID=Europe/London:20250704T190000
DTEND;TZID=Europe/London:20250704T203000
DTSTAMP:20260422T135305
CREATED:20250319T161055Z
LAST-MODIFIED:20250606T091005Z
UID:10004515-1751655600-1751661000@newcastlecathedral.org.uk
SUMMARY:Northern Proud Voices Cathedral Concert 2025
DESCRIPTION:Join us for an uplifting evening of pop and rock hits performed by Northern Proud Voices\, the North East’s largest and longest-running LGBTQIA+ choir. \nSince 2011\, the choir has provided a safe and supportive space for members to connect through music\, reducing social isolation and promoting overall well-being. Expect a setlist of feel-good and meaningful anthems — last year’s programme included ‘Mr Blue Sky’ by ELO\, ‘Tattoo’ by Loreen\, and ‘It’s a Sin’ by The Pet Shop Boys. \nAfter the concert\, enjoy refreshments and networking in the stunning Cathedral nave. \nTickets are available on a ‘Give As You Feel’ basis (suggested £8). \nProceeds will be shared equally between Northern Proud Voices and Newcastle Cathedral\, whose work includes the Cathedral Lantern Project\, which exists to walk and work alongside people facing difficult times. \nThis event is an official part of Northern Pride’s Fringe Festival\, leading up to Newcastle Pride on Saturday 19 and Sunday 20 July. \n              \nPride at Newcastle Cathedral
URL:https://newcastlecathedral.org.uk/event/northern-proud-voices-celebration-concert-2025/
LOCATION:Newcastle Cathedral\, St Nicholas Square\, Newcastle upon Tyne\, NE1 1PF\, United Kingdom\, Newcastle\, Tyne & Wear\, NE1 1PF\, United Kingdom
CATEGORIES:Guest Concerts
ATTACH;FMTTYPE=image/jpeg:https://newcastlecathedral.org.uk/wp-content/uploads/2025/03/Northern-Proud-Voices-concert-2024-Photo-of-Choir-by-Haydn-Brown-Photography.jpg
END:VEVENT
END:VCALENDAR