BEGIN:VCALENDAR
VERSION:2.0
PRODID:-//Newcastle Cathedral - ECPv6.15.20//NONSGML v1.0//EN
CALSCALE:GREGORIAN
METHOD:PUBLISH
X-ORIGINAL-URL:https://newcastlecathedral.org.uk
X-WR-CALDESC:Events for Newcastle Cathedral
REFRESH-INTERVAL;VALUE=DURATION:PT1H
X-Robots-Tag:noindex
X-PUBLISHED-TTL:PT1H
BEGIN:VTIMEZONE
TZID:Europe/London
BEGIN:DAYLIGHT
TZOFFSETFROM:+0000
TZOFFSETTO:+0100
TZNAME:BST
DTSTART:20240331T010000
END:DAYLIGHT
BEGIN:STANDARD
TZOFFSETFROM:+0100
TZOFFSETTO:+0000
TZNAME:GMT
DTSTART:20241027T010000
END:STANDARD
BEGIN:DAYLIGHT
TZOFFSETFROM:+0000
TZOFFSETTO:+0100
TZNAME:BST
DTSTART:20250330T010000
END:DAYLIGHT
BEGIN:STANDARD
TZOFFSETFROM:+0100
TZOFFSETTO:+0000
TZNAME:GMT
DTSTART:20251026T010000
END:STANDARD
BEGIN:DAYLIGHT
TZOFFSETFROM:+0000
TZOFFSETTO:+0100
TZNAME:BST
DTSTART:20260329T010000
END:DAYLIGHT
BEGIN:STANDARD
TZOFFSETFROM:+0100
TZOFFSETTO:+0000
TZNAME:GMT
DTSTART:20261025T010000
END:STANDARD
END:VTIMEZONE
BEGIN:VEVENT
DTSTART;TZID=Europe/London:20250801T193000
DTEND;TZID=Europe/London:20250801T193000
DTSTAMP:20260423T015710
CREATED:20250321T110100Z
LAST-MODIFIED:20250616T114022Z
UID:10004519-1754076600-1754076600@newcastlecathedral.org.uk
SUMMARY:The Music of Fleetwood Mac by Candlelight (Concerts by Candlelight)
DESCRIPTION:Featuring a world-class cast of West End Singers and an epic live band\, join us for a ‘Landslide’ concert\, jam-packed with Fleetwood Mac hits as you have never heard them before! \nThis incredible show will feature the band’s best-loved songs\, including ‘Little Lies’\, ‘The Chain’\, ‘Rhiannon’\, ‘Don’t Stop’ and many more. \nSo\, ‘Go Your Own Way’\, release your inner ‘Gypsy’ and book your tickets now for the concert of your ‘Dreams’! \nPlease note: \n\nAn external organisation hosts this concert\, and booking fees may apply.\nAll seating is general admission within your selected block\, and seats will be available on a first-come\, first-served basis on the night. We recommend arriving early to secure the best available seats.\nTicket queries should be directed via the Concerts by Candlelight website.\nAccess tickets (including a free carer ticket) are available for this event.\nDrinks will be available from a fully-stocked bar in the Cathedral Refectory before the show and during an interval.\n\nThe income generated from welcoming events like ‘The Music of Fleetwood Mac by Candlelight’ helps us maintain this beautiful building\, continue our charitable work\, and keep our doors open to all.
URL:https://newcastlecathedral.org.uk/event/the-music-of-fleetwood-mac/2025-08-01/
LOCATION:Newcastle Cathedral\, St Nicholas Square\, Newcastle upon Tyne\, NE1 1PF\, United Kingdom\, Newcastle\, Tyne & Wear\, NE1 1PF\, United Kingdom
CATEGORIES:Guest Concerts
ATTACH;FMTTYPE=image/jpeg:https://newcastlecathedral.org.uk/wp-content/uploads/2025/03/Music-of-Fleetwood-Mac-banner.jpg
ORGANIZER;CN="Kinda Dusty Ltd.":MAILTO:boxoffice@kindadusty.co.uk
END:VEVENT
BEGIN:VEVENT
DTSTART;TZID=Europe/London:20250802T193000
DTEND;TZID=Europe/London:20250802T220000
DTSTAMP:20260423T015710
CREATED:20250321T110100Z
LAST-MODIFIED:20250616T114022Z
UID:10004520-1754163000-1754172000@newcastlecathedral.org.uk
SUMMARY:The Music of Fleetwood Mac by Candlelight (Concerts by Candlelight)
DESCRIPTION:Featuring a world-class cast of West End Singers and an epic live band\, join us for a ‘Landslide’ concert\, jam-packed with Fleetwood Mac hits as you have never heard them before! \nThis incredible show will feature the band’s best-loved songs\, including ‘Little Lies’\, ‘The Chain’\, ‘Rhiannon’\, ‘Don’t Stop’ and many more. \nSo\, ‘Go Your Own Way’\, release your inner ‘Gypsy’ and book your tickets now for the concert of your ‘Dreams’! \nPlease note: \n\nAn external organisation hosts this concert\, and booking fees may apply.\nAll seating is general admission within your selected block\, and seats will be available on a first-come\, first-served basis on the night. We recommend arriving early to secure the best available seats.\nTicket queries should be directed via the Concerts by Candlelight website.\nAccess tickets (including a free carer ticket) are available for this event.\nDrinks will be available from a fully-stocked bar in the Cathedral Refectory before the show and during an interval.\n\nThe income generated from welcoming events like ‘The Music of Fleetwood Mac by Candlelight’ helps us maintain this beautiful building\, continue our charitable work\, and keep our doors open to all.
URL:https://newcastlecathedral.org.uk/event/the-music-of-fleetwood-mac/2025-08-02/
LOCATION:Newcastle Cathedral\, St Nicholas Square\, Newcastle upon Tyne\, NE1 1PF\, United Kingdom\, Newcastle\, Tyne & Wear\, NE1 1PF\, United Kingdom
CATEGORIES:Guest Concerts
ATTACH;FMTTYPE=image/jpeg:https://newcastlecathedral.org.uk/wp-content/uploads/2025/03/Music-of-Fleetwood-Mac-banner.jpg
ORGANIZER;CN="Kinda Dusty Ltd.":MAILTO:boxoffice@kindadusty.co.uk
END:VEVENT
END:VCALENDAR